BEGIN:VCALENDAR
VERSION:2.0
PRODID:-//The Happier Life Project - ECPv6.15.3//NONSGML v1.0//EN
CALSCALE:GREGORIAN
METHOD:PUBLISH
X-WR-CALNAME:The Happier Life Project
X-ORIGINAL-URL:https://thehappierlifeproject.org
X-WR-CALDESC:Events for The Happier Life Project
REFRESH-INTERVAL;VALUE=DURATION:PT1H
X-Robots-Tag:noindex
X-PUBLISHED-TTL:PT1H
BEGIN:VTIMEZONE
TZID:Asia/Krasnoyarsk
BEGIN:STANDARD
TZOFFSETFROM:+0700
TZOFFSETTO:+0700
TZNAME:+07
DTSTART:20220101T000000
END:STANDARD
END:VTIMEZONE
BEGIN:VEVENT
DTSTART;TZID=Asia/Krasnoyarsk:20220601T110000
DTEND;TZID=Asia/Krasnoyarsk:20220601T120000
DTSTAMP:20260425T133033
CREATED:20220521T101043Z
LAST-MODIFIED:20220521T101043Z
UID:11120-1654081200-1654084800@thehappierlifeproject.org
SUMMARY:Recovery Ally Training
DESCRIPTION:The goal of this training is to promote the inclusivity of and sensitivity towards individuals in recovery. Topics to be covered include an overview of substance use\, Recovery friendly language\, Addressing stigma\, and How to be an effective Recovery Ally. \nEvery First Wednesday of the Month \n02/02/22 – 03/02/22 – 04/06/22 – 05/04/22 – 06/01/22 – 07/06/22 – 08/03/22 – 09/07/22 – 10/05/22 -11/02/22 – 12/07/22 \nTraining will be online!!! Click the link below to register! \ntinyurl.com/Ally22
URL:https://thehappierlifeproject.org/event/recovery-ally-training/
LOCATION:Zoom
CATEGORIES:Education,Training
ATTACH;FMTTYPE=image/jpeg:https://thehappierlifeproject.org/wp-content/uploads/2022/01/61e88bf51d442-2.jpg
END:VEVENT
BEGIN:VEVENT
DTSTART;TZID=Asia/Krasnoyarsk:20220526T180000
DTEND;TZID=Asia/Krasnoyarsk:20220526T190000
DTSTAMP:20260425T133033
CREATED:20220521T014359Z
LAST-MODIFIED:20220521T014359Z
UID:11115-1653588000-1653591600@thehappierlifeproject.org
SUMMARY:Asian American & Immigrant Mental Health
DESCRIPTION:Learn to recognize complex culturally-based warning signs and intervene early. How to navigate mental health conditions caused by trauma and fear often caused by anti-Asian hate crimes targeting Asian American immigrants. \n 
URL:https://thehappierlifeproject.org/event/asian-american-immigrant-mental-health/
LOCATION:Zoom
CATEGORIES:Education,Training
ATTACH;FMTTYPE=:
END:VEVENT
END:VCALENDAR