BEGIN:VCALENDAR
VERSION:2.0
PRODID:-//The Happier Life Project - ECPv6.15.3//NONSGML v1.0//EN
CALSCALE:GREGORIAN
METHOD:PUBLISH
X-ORIGINAL-URL:https://thehappierlifeproject.org
X-WR-CALDESC:Events for The Happier Life Project
REFRESH-INTERVAL;VALUE=DURATION:PT1H
X-Robots-Tag:noindex
X-PUBLISHED-TTL:PT1H
BEGIN:VTIMEZONE
TZID:America/Los_Angeles
BEGIN:DAYLIGHT
TZOFFSETFROM:-0800
TZOFFSETTO:-0700
TZNAME:PDT
DTSTART:20240310T100000
END:DAYLIGHT
BEGIN:STANDARD
TZOFFSETFROM:-0700
TZOFFSETTO:-0800
TZNAME:PST
DTSTART:20241103T090000
END:STANDARD
END:VTIMEZONE
BEGIN:VTIMEZONE
TZID:UTC
BEGIN:STANDARD
TZOFFSETFROM:+0000
TZOFFSETTO:+0000
TZNAME:UTC
DTSTART:20240101T000000
END:STANDARD
END:VTIMEZONE
BEGIN:VEVENT
DTSTART;TZID=America/Los_Angeles:20240430T180000
DTEND;TZID=America/Los_Angeles:20240430T190000
DTSTAMP:20260425T105256
CREATED:20230216T170033Z
LAST-MODIFIED:20230216T170033Z
UID:14156-1714500000-1714503600@thehappierlifeproject.org
SUMMARY:Live Group Peer Support @ We Level Up
DESCRIPTION:  \n \n  \nJoin us in a safe and inclusive recovery space! \nThe Happier Life Project holds in Person Group Peer Support meetings 1st\, 3rd and 5th Tuesday at 6pm Pacific. All are welcome! 
URL:https://thehappierlifeproject.org/event/live-group-peer-support-we-level-up-2024-04-30/
LOCATION:We Level Up\, 31631 Auto Center Dr\,\, Lake Elsinore\, CA\, 92530\, United States
END:VEVENT
BEGIN:VEVENT
DTSTART;TZID=America/Los_Angeles:20240429T180000
DTEND;TZID=America/Los_Angeles:20240429T190000
DTSTAMP:20260425T105256
CREATED:20230403T125147Z
LAST-MODIFIED:20230403T125147Z
UID:14626-1714413600-1714417200@thehappierlifeproject.org
SUMMARY:Virtual Group Peer Support
DESCRIPTION:Join us in a safe and inclusive recovery space! \nThe Happier Life Project holds Virtual Group Peer Support meetings every Monday at 6pm Pacific. All are welcome!  \nhttps://us02web.zoom.us/meeting/register/tZMlceuorTsoGtOFM9g9iZrQI4FOvKs4fMc6
URL:https://thehappierlifeproject.org/event/virtual-group-peer-support-2024-04-29/
END:VEVENT
BEGIN:VEVENT
DTSTART;TZID=UTC:20240426T120000
DTEND;TZID=UTC:20240426T130000
DTSTAMP:20260425T105256
CREATED:20230705T184305Z
LAST-MODIFIED:20240426T173635Z
UID:15414-1714132800-1714136400@thehappierlifeproject.org
SUMMARY:Honoring the Circle: Red Road to Wellbriety
DESCRIPTION:
URL:https://thehappierlifeproject.org/event/honoring-the-circle-red-road-to-wellbriety-2024-01-19/
LOCATION:The Happier Life Project\, 506 W. Graham Ave. Suite 105\, Lake Elsinore\, CA\, 92530\, United States
CATEGORIES:Support Group
END:VEVENT
BEGIN:VEVENT
DTSTART;TZID=America/Los_Angeles:20240424T120000
DTEND;TZID=America/Los_Angeles:20240424T130000
DTSTAMP:20260425T105256
CREATED:20221130T212222Z
LAST-MODIFIED:20230403T123711Z
UID:13535-1713960000-1713963600@thehappierlifeproject.org
SUMMARY:All Recovery Meeting
DESCRIPTION:Everybody Needs Support\nNo matter who we are or where we come from\, we all face challenges. Research shows that the single most important factor which determines physical and emotional health\, as well as success\, is social support. We KNOW that everyone thrives in a community of support\, especially when times are tough. Isolation and lack of support make all feelings and experiences harder to bear. So\, having a strong social support system is not only helpful\, it’s essential to us and our families. \nMeeting ID: 817 9920 3682 \nhttps://us02web.zoom.us/meeting/register/tZUqfuCqrjgsEtao43VyFSAHIfmCxtRBe-Mw
URL:https://thehappierlifeproject.org/event/all-recovery-meeting-8-2024-04-24/
END:VEVENT
BEGIN:VEVENT
DTSTART;TZID=America/Los_Angeles:20240423T180000
DTEND;TZID=America/Los_Angeles:20240423T190000
DTSTAMP:20260425T105256
CREATED:20230216T170033Z
LAST-MODIFIED:20230216T170033Z
UID:14673-1713895200-1713898800@thehappierlifeproject.org
SUMMARY:Live Group Peer Support @ We Level Up
DESCRIPTION:  \n \n  \nJoin us in a safe and inclusive recovery space! \nThe Happier Life Project holds in Person Group Peer Support meetings every Tuesday at 6pm Pacific. All are welcome! 
URL:https://thehappierlifeproject.org/event/live-group-peer-support-we-level-up-2024-04-23/
LOCATION:We Level Up\, 31631 Auto Center Dr\,\, Lake Elsinore\, CA\, 92530\, United States
END:VEVENT
BEGIN:VEVENT
DTSTART;TZID=America/Los_Angeles:20240422T180000
DTEND;TZID=America/Los_Angeles:20240422T190000
DTSTAMP:20260425T105256
CREATED:20230403T125147Z
LAST-MODIFIED:20230403T125147Z
UID:14625-1713808800-1713812400@thehappierlifeproject.org
SUMMARY:Virtual Group Peer Support
DESCRIPTION:Join us in a safe and inclusive recovery space! \nThe Happier Life Project holds Virtual Group Peer Support meetings every Monday at 6pm Pacific. All are welcome!  \nhttps://us02web.zoom.us/meeting/register/tZMlceuorTsoGtOFM9g9iZrQI4FOvKs4fMc6
URL:https://thehappierlifeproject.org/event/virtual-group-peer-support-2024-04-22/
END:VEVENT
BEGIN:VEVENT
DTSTART;TZID=America/Los_Angeles:20240417T120000
DTEND;TZID=America/Los_Angeles:20240417T130000
DTSTAMP:20260425T105256
CREATED:20221130T212222Z
LAST-MODIFIED:20230403T123710Z
UID:13534-1713355200-1713358800@thehappierlifeproject.org
SUMMARY:All Recovery Meeting
DESCRIPTION:Everybody Needs Support\nNo matter who we are or where we come from\, we all face challenges. Research shows that the single most important factor which determines physical and emotional health\, as well as success\, is social support. We KNOW that everyone thrives in a community of support\, especially when times are tough. Isolation and lack of support make all feelings and experiences harder to bear. So\, having a strong social support system is not only helpful\, it’s essential to us and our families. \nMeeting ID: 817 9920 3682 \nhttps://us02web.zoom.us/meeting/register/tZUqfuCqrjgsEtao43VyFSAHIfmCxtRBe-Mw
URL:https://thehappierlifeproject.org/event/all-recovery-meeting-8-2024-04-17/
END:VEVENT
BEGIN:VEVENT
DTSTART;TZID=America/Los_Angeles:20240416T180000
DTEND;TZID=America/Los_Angeles:20240416T190000
DTSTAMP:20260425T105256
CREATED:20230216T170033Z
LAST-MODIFIED:20230328T143739Z
UID:14008-1713290400-1713294000@thehappierlifeproject.org
SUMMARY:Live Group Peer Support @ We Level Up
DESCRIPTION:  \n \n  \nJoin us in a safe and inclusive recovery space! \nThe Happier Life Project holds in Person Group Peer Support meetings 1st\, 3rd and 5th Tuesday at 6pm Pacific. All are welcome! 
URL:https://thehappierlifeproject.org/event/live-group-peer-support-we-level-up-2024-04-16/
LOCATION:We Level Up\, 31631 Auto Center Dr\,\, Lake Elsinore\, CA\, 92530\, United States
END:VEVENT
BEGIN:VEVENT
DTSTART;TZID=America/Los_Angeles:20240415T180000
DTEND;TZID=America/Los_Angeles:20240415T190000
DTSTAMP:20260425T105256
CREATED:20230403T125147Z
LAST-MODIFIED:20230403T125147Z
UID:14624-1713204000-1713207600@thehappierlifeproject.org
SUMMARY:Virtual Group Peer Support
DESCRIPTION:Join us in a safe and inclusive recovery space! \nThe Happier Life Project holds Virtual Group Peer Support meetings every Monday at 6pm Pacific. All are welcome!  \nhttps://us02web.zoom.us/meeting/register/tZMlceuorTsoGtOFM9g9iZrQI4FOvKs4fMc6
URL:https://thehappierlifeproject.org/event/virtual-group-peer-support-2024-04-15/
END:VEVENT
BEGIN:VEVENT
DTSTART;TZID=America/Los_Angeles:20240410T120000
DTEND;TZID=America/Los_Angeles:20240410T130000
DTSTAMP:20260425T105256
CREATED:20221130T212222Z
LAST-MODIFIED:20230403T123710Z
UID:13533-1712750400-1712754000@thehappierlifeproject.org
SUMMARY:All Recovery Meeting
DESCRIPTION:Everybody Needs Support\nNo matter who we are or where we come from\, we all face challenges. Research shows that the single most important factor which determines physical and emotional health\, as well as success\, is social support. We KNOW that everyone thrives in a community of support\, especially when times are tough. Isolation and lack of support make all feelings and experiences harder to bear. So\, having a strong social support system is not only helpful\, it’s essential to us and our families. \nMeeting ID: 817 9920 3682 \nhttps://us02web.zoom.us/meeting/register/tZUqfuCqrjgsEtao43VyFSAHIfmCxtRBe-Mw
URL:https://thehappierlifeproject.org/event/all-recovery-meeting-8-2024-04-10/
END:VEVENT
BEGIN:VEVENT
DTSTART;TZID=America/Los_Angeles:20240409T180000
DTEND;TZID=America/Los_Angeles:20240409T190000
DTSTAMP:20260425T105256
CREATED:20230216T170033Z
LAST-MODIFIED:20230216T170033Z
UID:14672-1712685600-1712689200@thehappierlifeproject.org
SUMMARY:Live Group Peer Support @ We Level Up
DESCRIPTION:  \n \n  \nJoin us in a safe and inclusive recovery space! \nThe Happier Life Project holds in Person Group Peer Support meetings every Tuesday at 6pm Pacific. All are welcome! 
URL:https://thehappierlifeproject.org/event/live-group-peer-support-we-level-up-2024-04-09/
LOCATION:We Level Up\, 31631 Auto Center Dr\,\, Lake Elsinore\, CA\, 92530\, United States
END:VEVENT
BEGIN:VEVENT
DTSTART;TZID=America/Los_Angeles:20240408T180000
DTEND;TZID=America/Los_Angeles:20240408T190000
DTSTAMP:20260425T105256
CREATED:20230403T125147Z
LAST-MODIFIED:20230403T125147Z
UID:14623-1712599200-1712602800@thehappierlifeproject.org
SUMMARY:Virtual Group Peer Support
DESCRIPTION:Join us in a safe and inclusive recovery space! \nThe Happier Life Project holds Virtual Group Peer Support meetings every Monday at 6pm Pacific. All are welcome!  \nhttps://us02web.zoom.us/meeting/register/tZMlceuorTsoGtOFM9g9iZrQI4FOvKs4fMc6
URL:https://thehappierlifeproject.org/event/virtual-group-peer-support-2024-04-08/
END:VEVENT
BEGIN:VEVENT
DTSTART;TZID=America/Los_Angeles:20240403T120000
DTEND;TZID=America/Los_Angeles:20240403T130000
DTSTAMP:20260425T105256
CREATED:20221130T212222Z
LAST-MODIFIED:20230403T123709Z
UID:13532-1712145600-1712149200@thehappierlifeproject.org
SUMMARY:All Recovery Meeting
DESCRIPTION:Everybody Needs Support\nNo matter who we are or where we come from\, we all face challenges. Research shows that the single most important factor which determines physical and emotional health\, as well as success\, is social support. We KNOW that everyone thrives in a community of support\, especially when times are tough. Isolation and lack of support make all feelings and experiences harder to bear. So\, having a strong social support system is not only helpful\, it’s essential to us and our families. \nMeeting ID: 817 9920 3682 \nhttps://us02web.zoom.us/meeting/register/tZUqfuCqrjgsEtao43VyFSAHIfmCxtRBe-Mw
URL:https://thehappierlifeproject.org/event/all-recovery-meeting-8-2024-04-03/
END:VEVENT
BEGIN:VEVENT
DTSTART;TZID=America/Los_Angeles:20240402T180000
DTEND;TZID=America/Los_Angeles:20240402T190000
DTSTAMP:20260425T105256
CREATED:20230216T170033Z
LAST-MODIFIED:20230328T143738Z
UID:14007-1712080800-1712084400@thehappierlifeproject.org
SUMMARY:Live Group Peer Support @ We Level Up
DESCRIPTION:  \n \n  \nJoin us in a safe and inclusive recovery space! \nThe Happier Life Project holds in Person Group Peer Support meetings 1st\, 3rd and 5th Tuesday at 6pm Pacific. All are welcome! 
URL:https://thehappierlifeproject.org/event/live-group-peer-support-we-level-up-2024-04-02/
LOCATION:We Level Up\, 31631 Auto Center Dr\,\, Lake Elsinore\, CA\, 92530\, United States
END:VEVENT
BEGIN:VEVENT
DTSTART;TZID=America/Los_Angeles:20240401T180000
DTEND;TZID=America/Los_Angeles:20240401T190000
DTSTAMP:20260425T105256
CREATED:20230403T125147Z
LAST-MODIFIED:20230403T125147Z
UID:14622-1711994400-1711998000@thehappierlifeproject.org
SUMMARY:Virtual Group Peer Support
DESCRIPTION:Join us in a safe and inclusive recovery space! \nThe Happier Life Project holds Virtual Group Peer Support meetings every Monday at 6pm Pacific. All are welcome!  \nhttps://us02web.zoom.us/meeting/register/tZMlceuorTsoGtOFM9g9iZrQI4FOvKs4fMc6
URL:https://thehappierlifeproject.org/event/virtual-group-peer-support-2024-04-01/
END:VEVENT
BEGIN:VEVENT
DTSTART;TZID=America/Los_Angeles:20240327T120000
DTEND;TZID=America/Los_Angeles:20240327T130000
DTSTAMP:20260425T105256
CREATED:20221130T212222Z
LAST-MODIFIED:20230403T123709Z
UID:13531-1711540800-1711544400@thehappierlifeproject.org
SUMMARY:All Recovery Meeting
DESCRIPTION:Everybody Needs Support\nNo matter who we are or where we come from\, we all face challenges. Research shows that the single most important factor which determines physical and emotional health\, as well as success\, is social support. We KNOW that everyone thrives in a community of support\, especially when times are tough. Isolation and lack of support make all feelings and experiences harder to bear. So\, having a strong social support system is not only helpful\, it’s essential to us and our families. \nMeeting ID: 817 9920 3682 \nhttps://us02web.zoom.us/meeting/register/tZUqfuCqrjgsEtao43VyFSAHIfmCxtRBe-Mw
URL:https://thehappierlifeproject.org/event/all-recovery-meeting-8-2024-03-27/
END:VEVENT
BEGIN:VEVENT
DTSTART;TZID=America/Los_Angeles:20240326T180000
DTEND;TZID=America/Los_Angeles:20240326T190000
DTSTAMP:20260425T105256
CREATED:20230216T170033Z
LAST-MODIFIED:20230216T170033Z
UID:14671-1711476000-1711479600@thehappierlifeproject.org
SUMMARY:Live Group Peer Support @ We Level Up
DESCRIPTION:  \n \n  \nJoin us in a safe and inclusive recovery space! \nThe Happier Life Project holds in Person Group Peer Support meetings every Tuesday at 6pm Pacific. All are welcome! 
URL:https://thehappierlifeproject.org/event/live-group-peer-support-we-level-up-2024-03-26/
LOCATION:We Level Up\, 31631 Auto Center Dr\,\, Lake Elsinore\, CA\, 92530\, United States
END:VEVENT
BEGIN:VEVENT
DTSTART;TZID=America/Los_Angeles:20240325T180000
DTEND;TZID=America/Los_Angeles:20240325T190000
DTSTAMP:20260425T105256
CREATED:20230403T125147Z
LAST-MODIFIED:20230403T125147Z
UID:14621-1711389600-1711393200@thehappierlifeproject.org
SUMMARY:Virtual Group Peer Support
DESCRIPTION:Join us in a safe and inclusive recovery space! \nThe Happier Life Project holds Virtual Group Peer Support meetings every Monday at 6pm Pacific. All are welcome!  \nhttps://us02web.zoom.us/meeting/register/tZMlceuorTsoGtOFM9g9iZrQI4FOvKs4fMc6
URL:https://thehappierlifeproject.org/event/virtual-group-peer-support-2024-03-25/
END:VEVENT
BEGIN:VEVENT
DTSTART;TZID=America/Los_Angeles:20240320T120000
DTEND;TZID=America/Los_Angeles:20240320T130000
DTSTAMP:20260425T105256
CREATED:20221130T212222Z
LAST-MODIFIED:20230403T123709Z
UID:13530-1710936000-1710939600@thehappierlifeproject.org
SUMMARY:All Recovery Meeting
DESCRIPTION:Everybody Needs Support\nNo matter who we are or where we come from\, we all face challenges. Research shows that the single most important factor which determines physical and emotional health\, as well as success\, is social support. We KNOW that everyone thrives in a community of support\, especially when times are tough. Isolation and lack of support make all feelings and experiences harder to bear. So\, having a strong social support system is not only helpful\, it’s essential to us and our families. \nMeeting ID: 817 9920 3682 \nhttps://us02web.zoom.us/meeting/register/tZUqfuCqrjgsEtao43VyFSAHIfmCxtRBe-Mw
URL:https://thehappierlifeproject.org/event/all-recovery-meeting-8-2024-03-20/
END:VEVENT
BEGIN:VEVENT
DTSTART;TZID=America/Los_Angeles:20240319T180000
DTEND;TZID=America/Los_Angeles:20240319T190000
DTSTAMP:20260425T105256
CREATED:20230216T170033Z
LAST-MODIFIED:20230328T143738Z
UID:14006-1710871200-1710874800@thehappierlifeproject.org
SUMMARY:Live Group Peer Support @ We Level Up
DESCRIPTION:  \n \n  \nJoin us in a safe and inclusive recovery space! \nThe Happier Life Project holds in Person Group Peer Support meetings 1st\, 3rd and 5th Tuesday at 6pm Pacific. All are welcome! 
URL:https://thehappierlifeproject.org/event/live-group-peer-support-we-level-up-2024-03-19/
LOCATION:We Level Up\, 31631 Auto Center Dr\,\, Lake Elsinore\, CA\, 92530\, United States
END:VEVENT
BEGIN:VEVENT
DTSTART;TZID=America/Los_Angeles:20240318T180000
DTEND;TZID=America/Los_Angeles:20240318T190000
DTSTAMP:20260425T105256
CREATED:20230403T125147Z
LAST-MODIFIED:20230403T125147Z
UID:14620-1710784800-1710788400@thehappierlifeproject.org
SUMMARY:Virtual Group Peer Support
DESCRIPTION:Join us in a safe and inclusive recovery space! \nThe Happier Life Project holds Virtual Group Peer Support meetings every Monday at 6pm Pacific. All are welcome!  \nhttps://us02web.zoom.us/meeting/register/tZMlceuorTsoGtOFM9g9iZrQI4FOvKs4fMc6
URL:https://thehappierlifeproject.org/event/virtual-group-peer-support-2024-03-18/
END:VEVENT
BEGIN:VEVENT
DTSTART;TZID=America/Los_Angeles:20240313T120000
DTEND;TZID=America/Los_Angeles:20240313T130000
DTSTAMP:20260425T105256
CREATED:20221130T212222Z
LAST-MODIFIED:20230403T123708Z
UID:13529-1710331200-1710334800@thehappierlifeproject.org
SUMMARY:All Recovery Meeting
DESCRIPTION:Everybody Needs Support\nNo matter who we are or where we come from\, we all face challenges. Research shows that the single most important factor which determines physical and emotional health\, as well as success\, is social support. We KNOW that everyone thrives in a community of support\, especially when times are tough. Isolation and lack of support make all feelings and experiences harder to bear. So\, having a strong social support system is not only helpful\, it’s essential to us and our families. \nMeeting ID: 817 9920 3682 \nhttps://us02web.zoom.us/meeting/register/tZUqfuCqrjgsEtao43VyFSAHIfmCxtRBe-Mw
URL:https://thehappierlifeproject.org/event/all-recovery-meeting-8-2024-03-13/
END:VEVENT
BEGIN:VEVENT
DTSTART;TZID=America/Los_Angeles:20240312T180000
DTEND;TZID=America/Los_Angeles:20240312T190000
DTSTAMP:20260425T105256
CREATED:20230216T170033Z
LAST-MODIFIED:20230216T170033Z
UID:14670-1710266400-1710270000@thehappierlifeproject.org
SUMMARY:Live Group Peer Support @ We Level Up
DESCRIPTION:  \n \n  \nJoin us in a safe and inclusive recovery space! \nThe Happier Life Project holds in Person Group Peer Support meetings every Tuesday at 6pm Pacific. All are welcome! 
URL:https://thehappierlifeproject.org/event/live-group-peer-support-we-level-up-2024-03-12/
LOCATION:We Level Up\, 31631 Auto Center Dr\,\, Lake Elsinore\, CA\, 92530\, United States
END:VEVENT
BEGIN:VEVENT
DTSTART;TZID=America/Los_Angeles:20240311T180000
DTEND;TZID=America/Los_Angeles:20240311T190000
DTSTAMP:20260425T105256
CREATED:20230403T125147Z
LAST-MODIFIED:20230403T125147Z
UID:14619-1710180000-1710183600@thehappierlifeproject.org
SUMMARY:Virtual Group Peer Support
DESCRIPTION:Join us in a safe and inclusive recovery space! \nThe Happier Life Project holds Virtual Group Peer Support meetings every Monday at 6pm Pacific. All are welcome!  \nhttps://us02web.zoom.us/meeting/register/tZMlceuorTsoGtOFM9g9iZrQI4FOvKs4fMc6
URL:https://thehappierlifeproject.org/event/virtual-group-peer-support-2024-03-11/
END:VEVENT
BEGIN:VEVENT
DTSTART;TZID=America/Los_Angeles:20240306T120000
DTEND;TZID=America/Los_Angeles:20240306T130000
DTSTAMP:20260425T105256
CREATED:20221130T212222Z
LAST-MODIFIED:20230403T123708Z
UID:13528-1709726400-1709730000@thehappierlifeproject.org
SUMMARY:All Recovery Meeting
DESCRIPTION:Everybody Needs Support\nNo matter who we are or where we come from\, we all face challenges. Research shows that the single most important factor which determines physical and emotional health\, as well as success\, is social support. We KNOW that everyone thrives in a community of support\, especially when times are tough. Isolation and lack of support make all feelings and experiences harder to bear. So\, having a strong social support system is not only helpful\, it’s essential to us and our families. \nMeeting ID: 817 9920 3682 \nhttps://us02web.zoom.us/meeting/register/tZUqfuCqrjgsEtao43VyFSAHIfmCxtRBe-Mw
URL:https://thehappierlifeproject.org/event/all-recovery-meeting-8-2024-03-06/
END:VEVENT
BEGIN:VEVENT
DTSTART;TZID=America/Los_Angeles:20240305T180000
DTEND;TZID=America/Los_Angeles:20240305T190000
DTSTAMP:20260425T105256
CREATED:20230216T170033Z
LAST-MODIFIED:20230328T143738Z
UID:14005-1709661600-1709665200@thehappierlifeproject.org
SUMMARY:Live Group Peer Support @ We Level Up
DESCRIPTION:  \n \n  \nJoin us in a safe and inclusive recovery space! \nThe Happier Life Project holds in Person Group Peer Support meetings 1st\, 3rd and 5th Tuesday at 6pm Pacific. All are welcome! 
URL:https://thehappierlifeproject.org/event/live-group-peer-support-we-level-up-2024-03-05/
LOCATION:We Level Up\, 31631 Auto Center Dr\,\, Lake Elsinore\, CA\, 92530\, United States
END:VEVENT
BEGIN:VEVENT
DTSTART;TZID=America/Los_Angeles:20240304T180000
DTEND;TZID=America/Los_Angeles:20240304T190000
DTSTAMP:20260425T105256
CREATED:20230403T125147Z
LAST-MODIFIED:20230403T125147Z
UID:14618-1709575200-1709578800@thehappierlifeproject.org
SUMMARY:Virtual Group Peer Support
DESCRIPTION:Join us in a safe and inclusive recovery space! \nThe Happier Life Project holds Virtual Group Peer Support meetings every Monday at 6pm Pacific. All are welcome!  \nhttps://us02web.zoom.us/meeting/register/tZMlceuorTsoGtOFM9g9iZrQI4FOvKs4fMc6
URL:https://thehappierlifeproject.org/event/virtual-group-peer-support-2024-03-04/
END:VEVENT
BEGIN:VEVENT
DTSTART;TZID=America/Los_Angeles:20240228T120000
DTEND;TZID=America/Los_Angeles:20240228T130000
DTSTAMP:20260425T105256
CREATED:20221130T212222Z
LAST-MODIFIED:20230403T123708Z
UID:13527-1709121600-1709125200@thehappierlifeproject.org
SUMMARY:All Recovery Meeting
DESCRIPTION:Everybody Needs Support\nNo matter who we are or where we come from\, we all face challenges. Research shows that the single most important factor which determines physical and emotional health\, as well as success\, is social support. We KNOW that everyone thrives in a community of support\, especially when times are tough. Isolation and lack of support make all feelings and experiences harder to bear. So\, having a strong social support system is not only helpful\, it’s essential to us and our families. \nMeeting ID: 817 9920 3682 \nhttps://us02web.zoom.us/meeting/register/tZUqfuCqrjgsEtao43VyFSAHIfmCxtRBe-Mw
URL:https://thehappierlifeproject.org/event/all-recovery-meeting-8-2024-02-28/
END:VEVENT
BEGIN:VEVENT
DTSTART;TZID=America/Los_Angeles:20240227T180000
DTEND;TZID=America/Los_Angeles:20240227T190000
DTSTAMP:20260425T105256
CREATED:20230216T170033Z
LAST-MODIFIED:20230216T170033Z
UID:14669-1709056800-1709060400@thehappierlifeproject.org
SUMMARY:Live Group Peer Support @ We Level Up
DESCRIPTION:  \n \n  \nJoin us in a safe and inclusive recovery space! \nThe Happier Life Project holds in Person Group Peer Support meetings every Tuesday at 6pm Pacific. All are welcome! 
URL:https://thehappierlifeproject.org/event/live-group-peer-support-we-level-up-2024-02-27/
LOCATION:We Level Up\, 31631 Auto Center Dr\,\, Lake Elsinore\, CA\, 92530\, United States
END:VEVENT
BEGIN:VEVENT
DTSTART;TZID=America/Los_Angeles:20240226T180000
DTEND;TZID=America/Los_Angeles:20240226T190000
DTSTAMP:20260425T105256
CREATED:20230403T125147Z
LAST-MODIFIED:20230403T125147Z
UID:14617-1708970400-1708974000@thehappierlifeproject.org
SUMMARY:Virtual Group Peer Support
DESCRIPTION:Join us in a safe and inclusive recovery space! \nThe Happier Life Project holds Virtual Group Peer Support meetings every Monday at 6pm Pacific. All are welcome!  \nhttps://us02web.zoom.us/meeting/register/tZMlceuorTsoGtOFM9g9iZrQI4FOvKs4fMc6
URL:https://thehappierlifeproject.org/event/virtual-group-peer-support-2024-02-26/
END:VEVENT
END:VCALENDAR