BEGIN:VCALENDAR
VERSION:2.0
PRODID:-//The Happier Life Project - ECPv6.15.3//NONSGML v1.0//EN
CALSCALE:GREGORIAN
METHOD:PUBLISH
X-WR-CALNAME:The Happier Life Project
X-ORIGINAL-URL:https://thehappierlifeproject.org
X-WR-CALDESC:Events for The Happier Life Project
REFRESH-INTERVAL;VALUE=DURATION:PT1H
X-Robots-Tag:noindex
X-PUBLISHED-TTL:PT1H
BEGIN:VTIMEZONE
TZID:America/Los_Angeles
BEGIN:DAYLIGHT
TZOFFSETFROM:-0800
TZOFFSETTO:-0700
TZNAME:PDT
DTSTART:20240310T100000
END:DAYLIGHT
BEGIN:STANDARD
TZOFFSETFROM:-0700
TZOFFSETTO:-0800
TZNAME:PST
DTSTART:20241103T090000
END:STANDARD
END:VTIMEZONE
BEGIN:VTIMEZONE
TZID:UTC
BEGIN:STANDARD
TZOFFSETFROM:+0000
TZOFFSETTO:+0000
TZNAME:UTC
DTSTART:20240101T000000
END:STANDARD
END:VTIMEZONE
BEGIN:VEVENT
DTSTART;TZID=America/Los_Angeles:20240306T120000
DTEND;TZID=America/Los_Angeles:20240306T130000
DTSTAMP:20260425T140734
CREATED:20221130T212222Z
LAST-MODIFIED:20230403T123708Z
UID:13528-1709726400-1709730000@thehappierlifeproject.org
SUMMARY:All Recovery Meeting
DESCRIPTION:Everybody Needs Support\nNo matter who we are or where we come from\, we all face challenges. Research shows that the single most important factor which determines physical and emotional health\, as well as success\, is social support. We KNOW that everyone thrives in a community of support\, especially when times are tough. Isolation and lack of support make all feelings and experiences harder to bear. So\, having a strong social support system is not only helpful\, it’s essential to us and our families. \nMeeting ID: 817 9920 3682 \nhttps://us02web.zoom.us/meeting/register/tZUqfuCqrjgsEtao43VyFSAHIfmCxtRBe-Mw
URL:https://thehappierlifeproject.org/event/all-recovery-meeting-8-2024-03-06/
END:VEVENT
BEGIN:VEVENT
DTSTART;TZID=America/Los_Angeles:20240305T180000
DTEND;TZID=America/Los_Angeles:20240305T190000
DTSTAMP:20260425T140734
CREATED:20230216T170033Z
LAST-MODIFIED:20230328T143738Z
UID:14005-1709661600-1709665200@thehappierlifeproject.org
SUMMARY:Live Group Peer Support @ We Level Up
DESCRIPTION:  \n \n  \nJoin us in a safe and inclusive recovery space! \nThe Happier Life Project holds in Person Group Peer Support meetings 1st\, 3rd and 5th Tuesday at 6pm Pacific. All are welcome! 
URL:https://thehappierlifeproject.org/event/live-group-peer-support-we-level-up-2024-03-05/
LOCATION:We Level Up\, 31631 Auto Center Dr\,\, Lake Elsinore\, CA\, 92530\, United States
END:VEVENT
BEGIN:VEVENT
DTSTART;TZID=America/Los_Angeles:20240304T180000
DTEND;TZID=America/Los_Angeles:20240304T190000
DTSTAMP:20260425T140734
CREATED:20230403T125147Z
LAST-MODIFIED:20230403T125147Z
UID:14618-1709575200-1709578800@thehappierlifeproject.org
SUMMARY:Virtual Group Peer Support
DESCRIPTION:Join us in a safe and inclusive recovery space! \nThe Happier Life Project holds Virtual Group Peer Support meetings every Monday at 6pm Pacific. All are welcome!  \nhttps://us02web.zoom.us/meeting/register/tZMlceuorTsoGtOFM9g9iZrQI4FOvKs4fMc6
URL:https://thehappierlifeproject.org/event/virtual-group-peer-support-2024-03-04/
END:VEVENT
BEGIN:VEVENT
DTSTART;TZID=America/Los_Angeles:20240228T120000
DTEND;TZID=America/Los_Angeles:20240228T130000
DTSTAMP:20260425T140734
CREATED:20221130T212222Z
LAST-MODIFIED:20230403T123708Z
UID:13527-1709121600-1709125200@thehappierlifeproject.org
SUMMARY:All Recovery Meeting
DESCRIPTION:Everybody Needs Support\nNo matter who we are or where we come from\, we all face challenges. Research shows that the single most important factor which determines physical and emotional health\, as well as success\, is social support. We KNOW that everyone thrives in a community of support\, especially when times are tough. Isolation and lack of support make all feelings and experiences harder to bear. So\, having a strong social support system is not only helpful\, it’s essential to us and our families. \nMeeting ID: 817 9920 3682 \nhttps://us02web.zoom.us/meeting/register/tZUqfuCqrjgsEtao43VyFSAHIfmCxtRBe-Mw
URL:https://thehappierlifeproject.org/event/all-recovery-meeting-8-2024-02-28/
END:VEVENT
BEGIN:VEVENT
DTSTART;TZID=America/Los_Angeles:20240227T180000
DTEND;TZID=America/Los_Angeles:20240227T190000
DTSTAMP:20260425T140734
CREATED:20230216T170033Z
LAST-MODIFIED:20230216T170033Z
UID:14669-1709056800-1709060400@thehappierlifeproject.org
SUMMARY:Live Group Peer Support @ We Level Up
DESCRIPTION:  \n \n  \nJoin us in a safe and inclusive recovery space! \nThe Happier Life Project holds in Person Group Peer Support meetings every Tuesday at 6pm Pacific. All are welcome! 
URL:https://thehappierlifeproject.org/event/live-group-peer-support-we-level-up-2024-02-27/
LOCATION:We Level Up\, 31631 Auto Center Dr\,\, Lake Elsinore\, CA\, 92530\, United States
END:VEVENT
BEGIN:VEVENT
DTSTART;TZID=America/Los_Angeles:20240226T180000
DTEND;TZID=America/Los_Angeles:20240226T190000
DTSTAMP:20260425T140734
CREATED:20230403T125147Z
LAST-MODIFIED:20230403T125147Z
UID:14617-1708970400-1708974000@thehappierlifeproject.org
SUMMARY:Virtual Group Peer Support
DESCRIPTION:Join us in a safe and inclusive recovery space! \nThe Happier Life Project holds Virtual Group Peer Support meetings every Monday at 6pm Pacific. All are welcome!  \nhttps://us02web.zoom.us/meeting/register/tZMlceuorTsoGtOFM9g9iZrQI4FOvKs4fMc6
URL:https://thehappierlifeproject.org/event/virtual-group-peer-support-2024-02-26/
END:VEVENT
BEGIN:VEVENT
DTSTART;TZID=America/Los_Angeles:20240221T120000
DTEND;TZID=America/Los_Angeles:20240221T130000
DTSTAMP:20260425T140734
CREATED:20221130T212222Z
LAST-MODIFIED:20230403T123708Z
UID:13526-1708516800-1708520400@thehappierlifeproject.org
SUMMARY:All Recovery Meeting
DESCRIPTION:Everybody Needs Support\nNo matter who we are or where we come from\, we all face challenges. Research shows that the single most important factor which determines physical and emotional health\, as well as success\, is social support. We KNOW that everyone thrives in a community of support\, especially when times are tough. Isolation and lack of support make all feelings and experiences harder to bear. So\, having a strong social support system is not only helpful\, it’s essential to us and our families. \nMeeting ID: 817 9920 3682 \nhttps://us02web.zoom.us/meeting/register/tZUqfuCqrjgsEtao43VyFSAHIfmCxtRBe-Mw
URL:https://thehappierlifeproject.org/event/all-recovery-meeting-8-2024-02-21/
END:VEVENT
BEGIN:VEVENT
DTSTART;TZID=America/Los_Angeles:20240220T180000
DTEND;TZID=America/Los_Angeles:20240220T190000
DTSTAMP:20260425T140734
CREATED:20230216T170033Z
LAST-MODIFIED:20230328T143737Z
UID:14004-1708452000-1708455600@thehappierlifeproject.org
SUMMARY:Live Group Peer Support @ We Level Up
DESCRIPTION:  \n \n  \nJoin us in a safe and inclusive recovery space! \nThe Happier Life Project holds in Person Group Peer Support meetings 1st\, 3rd and 5th Tuesday at 6pm Pacific. All are welcome! 
URL:https://thehappierlifeproject.org/event/live-group-peer-support-we-level-up-2024-02-20/
LOCATION:We Level Up\, 31631 Auto Center Dr\,\, Lake Elsinore\, CA\, 92530\, United States
END:VEVENT
BEGIN:VEVENT
DTSTART;TZID=America/Los_Angeles:20240219T180000
DTEND;TZID=America/Los_Angeles:20240219T190000
DTSTAMP:20260425T140734
CREATED:20230403T125147Z
LAST-MODIFIED:20230403T125147Z
UID:14616-1708365600-1708369200@thehappierlifeproject.org
SUMMARY:Virtual Group Peer Support
DESCRIPTION:Join us in a safe and inclusive recovery space! \nThe Happier Life Project holds Virtual Group Peer Support meetings every Monday at 6pm Pacific. All are welcome!  \nhttps://us02web.zoom.us/meeting/register/tZMlceuorTsoGtOFM9g9iZrQI4FOvKs4fMc6
URL:https://thehappierlifeproject.org/event/virtual-group-peer-support-2024-02-19/
END:VEVENT
BEGIN:VEVENT
DTSTART;TZID=America/Los_Angeles:20240214T120000
DTEND;TZID=America/Los_Angeles:20240214T130000
DTSTAMP:20260425T140734
CREATED:20221130T212222Z
LAST-MODIFIED:20230403T123708Z
UID:13525-1707912000-1707915600@thehappierlifeproject.org
SUMMARY:All Recovery Meeting
DESCRIPTION:Everybody Needs Support\nNo matter who we are or where we come from\, we all face challenges. Research shows that the single most important factor which determines physical and emotional health\, as well as success\, is social support. We KNOW that everyone thrives in a community of support\, especially when times are tough. Isolation and lack of support make all feelings and experiences harder to bear. So\, having a strong social support system is not only helpful\, it’s essential to us and our families. \nMeeting ID: 817 9920 3682 \nhttps://us02web.zoom.us/meeting/register/tZUqfuCqrjgsEtao43VyFSAHIfmCxtRBe-Mw
URL:https://thehappierlifeproject.org/event/all-recovery-meeting-8-2024-02-14/
END:VEVENT
BEGIN:VEVENT
DTSTART;TZID=America/Los_Angeles:20240213T180000
DTEND;TZID=America/Los_Angeles:20240213T190000
DTSTAMP:20260425T140734
CREATED:20230216T170033Z
LAST-MODIFIED:20230216T170033Z
UID:14668-1707847200-1707850800@thehappierlifeproject.org
SUMMARY:Live Group Peer Support @ We Level Up
DESCRIPTION:  \n \n  \nJoin us in a safe and inclusive recovery space! \nThe Happier Life Project holds in Person Group Peer Support meetings every Tuesday at 6pm Pacific. All are welcome! 
URL:https://thehappierlifeproject.org/event/live-group-peer-support-we-level-up-2024-02-13/
LOCATION:We Level Up\, 31631 Auto Center Dr\,\, Lake Elsinore\, CA\, 92530\, United States
END:VEVENT
BEGIN:VEVENT
DTSTART;TZID=America/Los_Angeles:20240212T180000
DTEND;TZID=America/Los_Angeles:20240212T190000
DTSTAMP:20260425T140734
CREATED:20230403T125147Z
LAST-MODIFIED:20230403T125147Z
UID:14615-1707760800-1707764400@thehappierlifeproject.org
SUMMARY:Virtual Group Peer Support
DESCRIPTION:Join us in a safe and inclusive recovery space! \nThe Happier Life Project holds Virtual Group Peer Support meetings every Monday at 6pm Pacific. All are welcome!  \nhttps://us02web.zoom.us/meeting/register/tZMlceuorTsoGtOFM9g9iZrQI4FOvKs4fMc6
URL:https://thehappierlifeproject.org/event/virtual-group-peer-support-2024-02-12/
END:VEVENT
BEGIN:VEVENT
DTSTART;TZID=America/Los_Angeles:20240207T120000
DTEND;TZID=America/Los_Angeles:20240207T130000
DTSTAMP:20260425T140734
CREATED:20221130T212222Z
LAST-MODIFIED:20230403T123708Z
UID:13524-1707307200-1707310800@thehappierlifeproject.org
SUMMARY:All Recovery Meeting
DESCRIPTION:Everybody Needs Support\nNo matter who we are or where we come from\, we all face challenges. Research shows that the single most important factor which determines physical and emotional health\, as well as success\, is social support. We KNOW that everyone thrives in a community of support\, especially when times are tough. Isolation and lack of support make all feelings and experiences harder to bear. So\, having a strong social support system is not only helpful\, it’s essential to us and our families. \nMeeting ID: 817 9920 3682 \nhttps://us02web.zoom.us/meeting/register/tZUqfuCqrjgsEtao43VyFSAHIfmCxtRBe-Mw
URL:https://thehappierlifeproject.org/event/all-recovery-meeting-8-2024-02-07/
END:VEVENT
BEGIN:VEVENT
DTSTART;TZID=America/Los_Angeles:20240206T180000
DTEND;TZID=America/Los_Angeles:20240206T190000
DTSTAMP:20260425T140734
CREATED:20230216T170033Z
LAST-MODIFIED:20230328T143737Z
UID:14003-1707242400-1707246000@thehappierlifeproject.org
SUMMARY:Live Group Peer Support @ We Level Up
DESCRIPTION:  \n \n  \nJoin us in a safe and inclusive recovery space! \nThe Happier Life Project holds in Person Group Peer Support meetings 1st\, 3rd and 5th Tuesday at 6pm Pacific. All are welcome! 
URL:https://thehappierlifeproject.org/event/live-group-peer-support-we-level-up-2024-02-06/
LOCATION:We Level Up\, 31631 Auto Center Dr\,\, Lake Elsinore\, CA\, 92530\, United States
END:VEVENT
BEGIN:VEVENT
DTSTART;TZID=America/Los_Angeles:20240205T180000
DTEND;TZID=America/Los_Angeles:20240205T190000
DTSTAMP:20260425T140734
CREATED:20230403T125147Z
LAST-MODIFIED:20230403T125147Z
UID:14614-1707156000-1707159600@thehappierlifeproject.org
SUMMARY:Virtual Group Peer Support
DESCRIPTION:Join us in a safe and inclusive recovery space! \nThe Happier Life Project holds Virtual Group Peer Support meetings every Monday at 6pm Pacific. All are welcome!  \nhttps://us02web.zoom.us/meeting/register/tZMlceuorTsoGtOFM9g9iZrQI4FOvKs4fMc6
URL:https://thehappierlifeproject.org/event/virtual-group-peer-support-2024-02-05/
END:VEVENT
BEGIN:VEVENT
DTSTART;TZID=America/Los_Angeles:20240131T120000
DTEND;TZID=America/Los_Angeles:20240131T130000
DTSTAMP:20260425T140734
CREATED:20221130T212222Z
LAST-MODIFIED:20230403T123707Z
UID:13523-1706702400-1706706000@thehappierlifeproject.org
SUMMARY:All Recovery Meeting
DESCRIPTION:Everybody Needs Support\nNo matter who we are or where we come from\, we all face challenges. Research shows that the single most important factor which determines physical and emotional health\, as well as success\, is social support. We KNOW that everyone thrives in a community of support\, especially when times are tough. Isolation and lack of support make all feelings and experiences harder to bear. So\, having a strong social support system is not only helpful\, it’s essential to us and our families. \nMeeting ID: 817 9920 3682 \nhttps://us02web.zoom.us/meeting/register/tZUqfuCqrjgsEtao43VyFSAHIfmCxtRBe-Mw
URL:https://thehappierlifeproject.org/event/all-recovery-meeting-8-2024-01-31/
END:VEVENT
BEGIN:VEVENT
DTSTART;TZID=America/Los_Angeles:20240130T180000
DTEND;TZID=America/Los_Angeles:20240130T190000
DTSTAMP:20260425T140734
CREATED:20230216T170033Z
LAST-MODIFIED:20230216T170033Z
UID:14155-1706637600-1706641200@thehappierlifeproject.org
SUMMARY:Live Group Peer Support @ We Level Up
DESCRIPTION:  \n \n  \nJoin us in a safe and inclusive recovery space! \nThe Happier Life Project holds in Person Group Peer Support meetings 1st\, 3rd and 5th Tuesday at 6pm Pacific. All are welcome! 
URL:https://thehappierlifeproject.org/event/live-group-peer-support-we-level-up-2024-01-30/
LOCATION:We Level Up\, 31631 Auto Center Dr\,\, Lake Elsinore\, CA\, 92530\, United States
END:VEVENT
BEGIN:VEVENT
DTSTART;TZID=America/Los_Angeles:20240129T180000
DTEND;TZID=America/Los_Angeles:20240129T190000
DTSTAMP:20260425T140734
CREATED:20230403T125147Z
LAST-MODIFIED:20230403T125147Z
UID:14613-1706551200-1706554800@thehappierlifeproject.org
SUMMARY:Virtual Group Peer Support
DESCRIPTION:Join us in a safe and inclusive recovery space! \nThe Happier Life Project holds Virtual Group Peer Support meetings every Monday at 6pm Pacific. All are welcome!  \nhttps://us02web.zoom.us/meeting/register/tZMlceuorTsoGtOFM9g9iZrQI4FOvKs4fMc6
URL:https://thehappierlifeproject.org/event/virtual-group-peer-support-2024-01-29/
END:VEVENT
BEGIN:VEVENT
DTSTART;TZID=America/Los_Angeles:20240124T120000
DTEND;TZID=America/Los_Angeles:20240124T130000
DTSTAMP:20260425T140734
CREATED:20221130T212222Z
LAST-MODIFIED:20230403T123707Z
UID:13522-1706097600-1706101200@thehappierlifeproject.org
SUMMARY:All Recovery Meeting
DESCRIPTION:Everybody Needs Support\nNo matter who we are or where we come from\, we all face challenges. Research shows that the single most important factor which determines physical and emotional health\, as well as success\, is social support. We KNOW that everyone thrives in a community of support\, especially when times are tough. Isolation and lack of support make all feelings and experiences harder to bear. So\, having a strong social support system is not only helpful\, it’s essential to us and our families. \nMeeting ID: 817 9920 3682 \nhttps://us02web.zoom.us/meeting/register/tZUqfuCqrjgsEtao43VyFSAHIfmCxtRBe-Mw
URL:https://thehappierlifeproject.org/event/all-recovery-meeting-8-2024-01-24/
END:VEVENT
BEGIN:VEVENT
DTSTART;TZID=America/Los_Angeles:20240123T180000
DTEND;TZID=America/Los_Angeles:20240123T190000
DTSTAMP:20260425T140734
CREATED:20230216T170033Z
LAST-MODIFIED:20230216T170033Z
UID:14667-1706032800-1706036400@thehappierlifeproject.org
SUMMARY:Live Group Peer Support @ We Level Up
DESCRIPTION:  \n \n  \nJoin us in a safe and inclusive recovery space! \nThe Happier Life Project holds in Person Group Peer Support meetings every Tuesday at 6pm Pacific. All are welcome! 
URL:https://thehappierlifeproject.org/event/live-group-peer-support-we-level-up-2024-01-23/
LOCATION:We Level Up\, 31631 Auto Center Dr\,\, Lake Elsinore\, CA\, 92530\, United States
END:VEVENT
BEGIN:VEVENT
DTSTART;TZID=America/Los_Angeles:20240122T180000
DTEND;TZID=America/Los_Angeles:20240122T190000
DTSTAMP:20260425T140734
CREATED:20230403T125147Z
LAST-MODIFIED:20230403T125147Z
UID:14612-1705946400-1705950000@thehappierlifeproject.org
SUMMARY:Virtual Group Peer Support
DESCRIPTION:Join us in a safe and inclusive recovery space! \nThe Happier Life Project holds Virtual Group Peer Support meetings every Monday at 6pm Pacific. All are welcome!  \nhttps://us02web.zoom.us/meeting/register/tZMlceuorTsoGtOFM9g9iZrQI4FOvKs4fMc6
URL:https://thehappierlifeproject.org/event/virtual-group-peer-support-2024-01-22/
END:VEVENT
BEGIN:VEVENT
DTSTART;TZID=America/Los_Angeles:20240117T120000
DTEND;TZID=America/Los_Angeles:20240117T130000
DTSTAMP:20260425T140734
CREATED:20221130T212222Z
LAST-MODIFIED:20230403T123706Z
UID:13521-1705492800-1705496400@thehappierlifeproject.org
SUMMARY:All Recovery Meeting
DESCRIPTION:Everybody Needs Support\nNo matter who we are or where we come from\, we all face challenges. Research shows that the single most important factor which determines physical and emotional health\, as well as success\, is social support. We KNOW that everyone thrives in a community of support\, especially when times are tough. Isolation and lack of support make all feelings and experiences harder to bear. So\, having a strong social support system is not only helpful\, it’s essential to us and our families. \nMeeting ID: 817 9920 3682 \nhttps://us02web.zoom.us/meeting/register/tZUqfuCqrjgsEtao43VyFSAHIfmCxtRBe-Mw
URL:https://thehappierlifeproject.org/event/all-recovery-meeting-8-2024-01-17/
END:VEVENT
BEGIN:VEVENT
DTSTART;TZID=America/Los_Angeles:20240116T180000
DTEND;TZID=America/Los_Angeles:20240116T190000
DTSTAMP:20260425T140734
CREATED:20230216T170033Z
LAST-MODIFIED:20230328T143736Z
UID:14001-1705428000-1705431600@thehappierlifeproject.org
SUMMARY:Live Group Peer Support @ We Level Up
DESCRIPTION:  \n \n  \nJoin us in a safe and inclusive recovery space! \nThe Happier Life Project holds in Person Group Peer Support meetings 1st\, 3rd and 5th Tuesday at 6pm Pacific. All are welcome! 
URL:https://thehappierlifeproject.org/event/live-group-peer-support-we-level-up-2024-01-16/
LOCATION:We Level Up\, 31631 Auto Center Dr\,\, Lake Elsinore\, CA\, 92530\, United States
END:VEVENT
BEGIN:VEVENT
DTSTART;TZID=America/Los_Angeles:20240115T180000
DTEND;TZID=America/Los_Angeles:20240115T190000
DTSTAMP:20260425T140734
CREATED:20230403T125147Z
LAST-MODIFIED:20230403T125147Z
UID:14611-1705341600-1705345200@thehappierlifeproject.org
SUMMARY:Virtual Group Peer Support
DESCRIPTION:Join us in a safe and inclusive recovery space! \nThe Happier Life Project holds Virtual Group Peer Support meetings every Monday at 6pm Pacific. All are welcome!  \nhttps://us02web.zoom.us/meeting/register/tZMlceuorTsoGtOFM9g9iZrQI4FOvKs4fMc6
URL:https://thehappierlifeproject.org/event/virtual-group-peer-support-2024-01-15/
END:VEVENT
BEGIN:VEVENT
DTSTART;TZID=UTC:20240112T120000
DTEND;TZID=UTC:20240112T130000
DTSTAMP:20260425T140734
CREATED:20230705T184305Z
LAST-MODIFIED:20230705T184305Z
UID:15413-1705060800-1705064400@thehappierlifeproject.org
SUMMARY:Honoring the Circle: Red Road to Wellbriety
DESCRIPTION:
URL:https://thehappierlifeproject.org/event/honoring-the-circle-red-road-to-wellbriety-2024-01-12/
LOCATION:Mindful Lotus\, 115 W Franklin St\, Lake Elsinore\, CA\, 92530\, United States
END:VEVENT
BEGIN:VEVENT
DTSTART;TZID=America/Los_Angeles:20240110T120000
DTEND;TZID=America/Los_Angeles:20240110T130000
DTSTAMP:20260425T140734
CREATED:20221130T212222Z
LAST-MODIFIED:20230403T123706Z
UID:13520-1704888000-1704891600@thehappierlifeproject.org
SUMMARY:All Recovery Meeting
DESCRIPTION:Everybody Needs Support\nNo matter who we are or where we come from\, we all face challenges. Research shows that the single most important factor which determines physical and emotional health\, as well as success\, is social support. We KNOW that everyone thrives in a community of support\, especially when times are tough. Isolation and lack of support make all feelings and experiences harder to bear. So\, having a strong social support system is not only helpful\, it’s essential to us and our families. \nMeeting ID: 817 9920 3682 \nhttps://us02web.zoom.us/meeting/register/tZUqfuCqrjgsEtao43VyFSAHIfmCxtRBe-Mw
URL:https://thehappierlifeproject.org/event/all-recovery-meeting-8-2024-01-10/
END:VEVENT
BEGIN:VEVENT
DTSTART;TZID=America/Los_Angeles:20240109T180000
DTEND;TZID=America/Los_Angeles:20240109T190000
DTSTAMP:20260425T140734
CREATED:20230216T170033Z
LAST-MODIFIED:20230216T170033Z
UID:14666-1704823200-1704826800@thehappierlifeproject.org
SUMMARY:Live Group Peer Support @ We Level Up
DESCRIPTION:  \n \n  \nJoin us in a safe and inclusive recovery space! \nThe Happier Life Project holds in Person Group Peer Support meetings every Tuesday at 6pm Pacific. All are welcome! 
URL:https://thehappierlifeproject.org/event/live-group-peer-support-we-level-up-2024-01-09/
LOCATION:We Level Up\, 31631 Auto Center Dr\,\, Lake Elsinore\, CA\, 92530\, United States
END:VEVENT
BEGIN:VEVENT
DTSTART;TZID=America/Los_Angeles:20240108T180000
DTEND;TZID=America/Los_Angeles:20240108T190000
DTSTAMP:20260425T140734
CREATED:20230403T125147Z
LAST-MODIFIED:20230403T125147Z
UID:14610-1704736800-1704740400@thehappierlifeproject.org
SUMMARY:Virtual Group Peer Support
DESCRIPTION:Join us in a safe and inclusive recovery space! \nThe Happier Life Project holds Virtual Group Peer Support meetings every Monday at 6pm Pacific. All are welcome!  \nhttps://us02web.zoom.us/meeting/register/tZMlceuorTsoGtOFM9g9iZrQI4FOvKs4fMc6
URL:https://thehappierlifeproject.org/event/virtual-group-peer-support-2024-01-08/
END:VEVENT
BEGIN:VEVENT
DTSTART;TZID=UTC:20240105T120000
DTEND;TZID=UTC:20240105T130000
DTSTAMP:20260425T140734
CREATED:20230705T184305Z
LAST-MODIFIED:20230705T184305Z
UID:15412-1704456000-1704459600@thehappierlifeproject.org
SUMMARY:Honoring the Circle: Red Road to Wellbriety
DESCRIPTION:
URL:https://thehappierlifeproject.org/event/honoring-the-circle-red-road-to-wellbriety-2024-01-05/
LOCATION:Mindful Lotus\, 115 W Franklin St\, Lake Elsinore\, CA\, 92530\, United States
END:VEVENT
BEGIN:VEVENT
DTSTART;TZID=America/Los_Angeles:20240103T120000
DTEND;TZID=America/Los_Angeles:20240103T130000
DTSTAMP:20260425T140734
CREATED:20221130T212222Z
LAST-MODIFIED:20230403T123706Z
UID:13519-1704283200-1704286800@thehappierlifeproject.org
SUMMARY:All Recovery Meeting
DESCRIPTION:Everybody Needs Support\nNo matter who we are or where we come from\, we all face challenges. Research shows that the single most important factor which determines physical and emotional health\, as well as success\, is social support. We KNOW that everyone thrives in a community of support\, especially when times are tough. Isolation and lack of support make all feelings and experiences harder to bear. So\, having a strong social support system is not only helpful\, it’s essential to us and our families. \nMeeting ID: 817 9920 3682 \nhttps://us02web.zoom.us/meeting/register/tZUqfuCqrjgsEtao43VyFSAHIfmCxtRBe-Mw
URL:https://thehappierlifeproject.org/event/all-recovery-meeting-8-2024-01-03/
END:VEVENT
END:VCALENDAR