BEGIN:VCALENDAR
VERSION:2.0
PRODID:-//The Happier Life Project - ECPv6.15.3//NONSGML v1.0//EN
CALSCALE:GREGORIAN
METHOD:PUBLISH
X-ORIGINAL-URL:https://thehappierlifeproject.org
X-WR-CALDESC:Events for The Happier Life Project
REFRESH-INTERVAL;VALUE=DURATION:PT1H
X-Robots-Tag:noindex
X-PUBLISHED-TTL:PT1H
BEGIN:VTIMEZONE
TZID:UTC
BEGIN:STANDARD
TZOFFSETFROM:+0000
TZOFFSETTO:+0000
TZNAME:UTC
DTSTART:20230101T000000
END:STANDARD
END:VTIMEZONE
BEGIN:VTIMEZONE
TZID:America/Los_Angeles
BEGIN:DAYLIGHT
TZOFFSETFROM:-0800
TZOFFSETTO:-0700
TZNAME:PDT
DTSTART:20230312T100000
END:DAYLIGHT
BEGIN:STANDARD
TZOFFSETFROM:-0700
TZOFFSETTO:-0800
TZNAME:PST
DTSTART:20231105T090000
END:STANDARD
BEGIN:DAYLIGHT
TZOFFSETFROM:-0800
TZOFFSETTO:-0700
TZNAME:PDT
DTSTART:20240310T100000
END:DAYLIGHT
BEGIN:STANDARD
TZOFFSETFROM:-0700
TZOFFSETTO:-0800
TZNAME:PST
DTSTART:20241103T090000
END:STANDARD
END:VTIMEZONE
BEGIN:VEVENT
DTSTART;TZID=UTC:20240112T120000
DTEND;TZID=UTC:20240112T130000
DTSTAMP:20260425T173353
CREATED:20230705T184305Z
LAST-MODIFIED:20230705T184305Z
UID:15413-1705060800-1705064400@thehappierlifeproject.org
SUMMARY:Honoring the Circle: Red Road to Wellbriety
DESCRIPTION:
URL:https://thehappierlifeproject.org/event/honoring-the-circle-red-road-to-wellbriety-2024-01-12/
LOCATION:Mindful Lotus\, 115 W Franklin St\, Lake Elsinore\, CA\, 92530\, United States
END:VEVENT
BEGIN:VEVENT
DTSTART;TZID=America/Los_Angeles:20240110T120000
DTEND;TZID=America/Los_Angeles:20240110T130000
DTSTAMP:20260425T173353
CREATED:20221130T212222Z
LAST-MODIFIED:20230403T123706Z
UID:13520-1704888000-1704891600@thehappierlifeproject.org
SUMMARY:All Recovery Meeting
DESCRIPTION:Everybody Needs Support\nNo matter who we are or where we come from\, we all face challenges. Research shows that the single most important factor which determines physical and emotional health\, as well as success\, is social support. We KNOW that everyone thrives in a community of support\, especially when times are tough. Isolation and lack of support make all feelings and experiences harder to bear. So\, having a strong social support system is not only helpful\, it’s essential to us and our families. \nMeeting ID: 817 9920 3682 \nhttps://us02web.zoom.us/meeting/register/tZUqfuCqrjgsEtao43VyFSAHIfmCxtRBe-Mw
URL:https://thehappierlifeproject.org/event/all-recovery-meeting-8-2024-01-10/
LOCATION:CA
END:VEVENT
BEGIN:VEVENT
DTSTART;TZID=America/Los_Angeles:20240109T180000
DTEND;TZID=America/Los_Angeles:20240109T190000
DTSTAMP:20260425T173353
CREATED:20230216T170033Z
LAST-MODIFIED:20230216T170033Z
UID:14666-1704823200-1704826800@thehappierlifeproject.org
SUMMARY:Live Group Peer Support @ We Level Up
DESCRIPTION:  \n \n  \nJoin us in a safe and inclusive recovery space! \nThe Happier Life Project holds in Person Group Peer Support meetings every Tuesday at 6pm Pacific. All are welcome! 
URL:https://thehappierlifeproject.org/event/live-group-peer-support-we-level-up-2024-01-09/
LOCATION:We Level Up\, 31631 Auto Center Dr\,\, Lake Elsinore\, CA\, 92530\, United States
END:VEVENT
BEGIN:VEVENT
DTSTART;TZID=America/Los_Angeles:20240108T180000
DTEND;TZID=America/Los_Angeles:20240108T190000
DTSTAMP:20260425T173353
CREATED:20230403T125147Z
LAST-MODIFIED:20230403T125147Z
UID:14610-1704736800-1704740400@thehappierlifeproject.org
SUMMARY:Virtual Group Peer Support
DESCRIPTION:Join us in a safe and inclusive recovery space! \nThe Happier Life Project holds Virtual Group Peer Support meetings every Monday at 6pm Pacific. All are welcome!  \nhttps://us02web.zoom.us/meeting/register/tZMlceuorTsoGtOFM9g9iZrQI4FOvKs4fMc6
URL:https://thehappierlifeproject.org/event/virtual-group-peer-support-2024-01-08/
LOCATION:CA
END:VEVENT
BEGIN:VEVENT
DTSTART;TZID=UTC:20240105T120000
DTEND;TZID=UTC:20240105T130000
DTSTAMP:20260425T173353
CREATED:20230705T184305Z
LAST-MODIFIED:20230705T184305Z
UID:15412-1704456000-1704459600@thehappierlifeproject.org
SUMMARY:Honoring the Circle: Red Road to Wellbriety
DESCRIPTION:
URL:https://thehappierlifeproject.org/event/honoring-the-circle-red-road-to-wellbriety-2024-01-05/
LOCATION:Mindful Lotus\, 115 W Franklin St\, Lake Elsinore\, CA\, 92530\, United States
END:VEVENT
BEGIN:VEVENT
DTSTART;TZID=America/Los_Angeles:20240103T120000
DTEND;TZID=America/Los_Angeles:20240103T130000
DTSTAMP:20260425T173353
CREATED:20221130T212222Z
LAST-MODIFIED:20230403T123706Z
UID:13519-1704283200-1704286800@thehappierlifeproject.org
SUMMARY:All Recovery Meeting
DESCRIPTION:Everybody Needs Support\nNo matter who we are or where we come from\, we all face challenges. Research shows that the single most important factor which determines physical and emotional health\, as well as success\, is social support. We KNOW that everyone thrives in a community of support\, especially when times are tough. Isolation and lack of support make all feelings and experiences harder to bear. So\, having a strong social support system is not only helpful\, it’s essential to us and our families. \nMeeting ID: 817 9920 3682 \nhttps://us02web.zoom.us/meeting/register/tZUqfuCqrjgsEtao43VyFSAHIfmCxtRBe-Mw
URL:https://thehappierlifeproject.org/event/all-recovery-meeting-8-2024-01-03/
LOCATION:CA
END:VEVENT
BEGIN:VEVENT
DTSTART;TZID=America/Los_Angeles:20240102T180000
DTEND;TZID=America/Los_Angeles:20240102T190000
DTSTAMP:20260425T173353
CREATED:20230216T170033Z
LAST-MODIFIED:20230328T143736Z
UID:14000-1704218400-1704222000@thehappierlifeproject.org
SUMMARY:Live Group Peer Support @ We Level Up
DESCRIPTION:  \n \n  \nJoin us in a safe and inclusive recovery space! \nThe Happier Life Project holds in Person Group Peer Support meetings 1st\, 3rd and 5th Tuesday at 6pm Pacific. All are welcome! 
URL:https://thehappierlifeproject.org/event/live-group-peer-support-we-level-up-2024-01-02/
LOCATION:We Level Up\, 31631 Auto Center Dr\,\, Lake Elsinore\, CA\, 92530\, United States
END:VEVENT
BEGIN:VEVENT
DTSTART;TZID=America/Los_Angeles:20240101T180000
DTEND;TZID=America/Los_Angeles:20240101T190000
DTSTAMP:20260425T173353
CREATED:20230403T125147Z
LAST-MODIFIED:20230403T125147Z
UID:14609-1704132000-1704135600@thehappierlifeproject.org
SUMMARY:Virtual Group Peer Support
DESCRIPTION:Join us in a safe and inclusive recovery space! \nThe Happier Life Project holds Virtual Group Peer Support meetings every Monday at 6pm Pacific. All are welcome!  \nhttps://us02web.zoom.us/meeting/register/tZMlceuorTsoGtOFM9g9iZrQI4FOvKs4fMc6
URL:https://thehappierlifeproject.org/event/virtual-group-peer-support-2024-01-01/
LOCATION:CA
END:VEVENT
BEGIN:VEVENT
DTSTART;TZID=UTC:20231229T120000
DTEND;TZID=UTC:20231229T130000
DTSTAMP:20260425T173353
CREATED:20230705T184305Z
LAST-MODIFIED:20230705T184305Z
UID:15411-1703851200-1703854800@thehappierlifeproject.org
SUMMARY:Honoring the Circle: Red Road to Wellbriety
DESCRIPTION:
URL:https://thehappierlifeproject.org/event/honoring-the-circle-red-road-to-wellbriety-2023-12-29/
LOCATION:Mindful Lotus\, 115 W Franklin St\, Lake Elsinore\, CA\, 92530\, United States
END:VEVENT
BEGIN:VEVENT
DTSTART;TZID=America/Los_Angeles:20231227T120000
DTEND;TZID=America/Los_Angeles:20231227T130000
DTSTAMP:20260425T173353
CREATED:20221130T212222Z
LAST-MODIFIED:20230403T123706Z
UID:13518-1703678400-1703682000@thehappierlifeproject.org
SUMMARY:All Recovery Meeting
DESCRIPTION:Everybody Needs Support\nNo matter who we are or where we come from\, we all face challenges. Research shows that the single most important factor which determines physical and emotional health\, as well as success\, is social support. We KNOW that everyone thrives in a community of support\, especially when times are tough. Isolation and lack of support make all feelings and experiences harder to bear. So\, having a strong social support system is not only helpful\, it’s essential to us and our families. \nMeeting ID: 817 9920 3682 \nhttps://us02web.zoom.us/meeting/register/tZUqfuCqrjgsEtao43VyFSAHIfmCxtRBe-Mw
URL:https://thehappierlifeproject.org/event/all-recovery-meeting-8-2023-12-27/
LOCATION:CA
END:VEVENT
BEGIN:VEVENT
DTSTART;TZID=America/Los_Angeles:20231226T180000
DTEND;TZID=America/Los_Angeles:20231226T190000
DTSTAMP:20260425T173353
CREATED:20230216T170033Z
LAST-MODIFIED:20230216T170033Z
UID:14665-1703613600-1703617200@thehappierlifeproject.org
SUMMARY:Live Group Peer Support @ We Level Up
DESCRIPTION:  \n \n  \nJoin us in a safe and inclusive recovery space! \nThe Happier Life Project holds in Person Group Peer Support meetings every Tuesday at 6pm Pacific. All are welcome! 
URL:https://thehappierlifeproject.org/event/live-group-peer-support-we-level-up-2023-12-26/
LOCATION:We Level Up\, 31631 Auto Center Dr\,\, Lake Elsinore\, CA\, 92530\, United States
END:VEVENT
BEGIN:VEVENT
DTSTART;TZID=America/Los_Angeles:20231225T180000
DTEND;TZID=America/Los_Angeles:20231225T190000
DTSTAMP:20260425T173353
CREATED:20230403T125147Z
LAST-MODIFIED:20230403T125147Z
UID:14608-1703527200-1703530800@thehappierlifeproject.org
SUMMARY:Virtual Group Peer Support
DESCRIPTION:Join us in a safe and inclusive recovery space! \nThe Happier Life Project holds Virtual Group Peer Support meetings every Monday at 6pm Pacific. All are welcome!  \nhttps://us02web.zoom.us/meeting/register/tZMlceuorTsoGtOFM9g9iZrQI4FOvKs4fMc6
URL:https://thehappierlifeproject.org/event/virtual-group-peer-support-2023-12-25/
LOCATION:CA
END:VEVENT
BEGIN:VEVENT
DTSTART;TZID=UTC:20231222T120000
DTEND;TZID=UTC:20231222T130000
DTSTAMP:20260425T173353
CREATED:20230705T184305Z
LAST-MODIFIED:20230705T184305Z
UID:15410-1703246400-1703250000@thehappierlifeproject.org
SUMMARY:Honoring the Circle: Red Road to Wellbriety
DESCRIPTION:
URL:https://thehappierlifeproject.org/event/honoring-the-circle-red-road-to-wellbriety-2023-12-22/
LOCATION:Mindful Lotus\, 115 W Franklin St\, Lake Elsinore\, CA\, 92530\, United States
END:VEVENT
BEGIN:VEVENT
DTSTART;TZID=America/Los_Angeles:20231220T120000
DTEND;TZID=America/Los_Angeles:20231220T130000
DTSTAMP:20260425T173353
CREATED:20221130T212222Z
LAST-MODIFIED:20230403T123705Z
UID:13517-1703073600-1703077200@thehappierlifeproject.org
SUMMARY:All Recovery Meeting
DESCRIPTION:Everybody Needs Support\nNo matter who we are or where we come from\, we all face challenges. Research shows that the single most important factor which determines physical and emotional health\, as well as success\, is social support. We KNOW that everyone thrives in a community of support\, especially when times are tough. Isolation and lack of support make all feelings and experiences harder to bear. So\, having a strong social support system is not only helpful\, it’s essential to us and our families. \nMeeting ID: 817 9920 3682 \nhttps://us02web.zoom.us/meeting/register/tZUqfuCqrjgsEtao43VyFSAHIfmCxtRBe-Mw
URL:https://thehappierlifeproject.org/event/all-recovery-meeting-8-2023-12-20/
LOCATION:CA
END:VEVENT
BEGIN:VEVENT
DTSTART;TZID=America/Los_Angeles:20231219T180000
DTEND;TZID=America/Los_Angeles:20231219T190000
DTSTAMP:20260425T173353
CREATED:20230216T170033Z
LAST-MODIFIED:20230328T143736Z
UID:13999-1703008800-1703012400@thehappierlifeproject.org
SUMMARY:Live Group Peer Support @ We Level Up
DESCRIPTION:  \n \n  \nJoin us in a safe and inclusive recovery space! \nThe Happier Life Project holds in Person Group Peer Support meetings 1st\, 3rd and 5th Tuesday at 6pm Pacific. All are welcome! 
URL:https://thehappierlifeproject.org/event/live-group-peer-support-we-level-up-2023-12-19/
LOCATION:We Level Up\, 31631 Auto Center Dr\,\, Lake Elsinore\, CA\, 92530\, United States
END:VEVENT
BEGIN:VEVENT
DTSTART;TZID=America/Los_Angeles:20231218T180000
DTEND;TZID=America/Los_Angeles:20231218T190000
DTSTAMP:20260425T173353
CREATED:20230403T125147Z
LAST-MODIFIED:20230403T125147Z
UID:14607-1702922400-1702926000@thehappierlifeproject.org
SUMMARY:Virtual Group Peer Support
DESCRIPTION:Join us in a safe and inclusive recovery space! \nThe Happier Life Project holds Virtual Group Peer Support meetings every Monday at 6pm Pacific. All are welcome!  \nhttps://us02web.zoom.us/meeting/register/tZMlceuorTsoGtOFM9g9iZrQI4FOvKs4fMc6
URL:https://thehappierlifeproject.org/event/virtual-group-peer-support-2023-12-18/
LOCATION:CA
END:VEVENT
BEGIN:VEVENT
DTSTART;TZID=UTC:20231215T120000
DTEND;TZID=UTC:20231215T130000
DTSTAMP:20260425T173353
CREATED:20230705T184305Z
LAST-MODIFIED:20230705T184305Z
UID:15409-1702641600-1702645200@thehappierlifeproject.org
SUMMARY:Honoring the Circle: Red Road to Wellbriety
DESCRIPTION:
URL:https://thehappierlifeproject.org/event/honoring-the-circle-red-road-to-wellbriety-2023-12-15/
LOCATION:Mindful Lotus\, 115 W Franklin St\, Lake Elsinore\, CA\, 92530\, United States
END:VEVENT
BEGIN:VEVENT
DTSTART;TZID=America/Los_Angeles:20231213T120000
DTEND;TZID=America/Los_Angeles:20231213T130000
DTSTAMP:20260425T173353
CREATED:20221130T212222Z
LAST-MODIFIED:20230403T123705Z
UID:13516-1702468800-1702472400@thehappierlifeproject.org
SUMMARY:All Recovery Meeting
DESCRIPTION:Everybody Needs Support\nNo matter who we are or where we come from\, we all face challenges. Research shows that the single most important factor which determines physical and emotional health\, as well as success\, is social support. We KNOW that everyone thrives in a community of support\, especially when times are tough. Isolation and lack of support make all feelings and experiences harder to bear. So\, having a strong social support system is not only helpful\, it’s essential to us and our families. \nMeeting ID: 817 9920 3682 \nhttps://us02web.zoom.us/meeting/register/tZUqfuCqrjgsEtao43VyFSAHIfmCxtRBe-Mw
URL:https://thehappierlifeproject.org/event/all-recovery-meeting-8-2023-12-13/
LOCATION:CA
END:VEVENT
BEGIN:VEVENT
DTSTART;TZID=America/Los_Angeles:20231212T180000
DTEND;TZID=America/Los_Angeles:20231212T190000
DTSTAMP:20260425T173353
CREATED:20230216T170033Z
LAST-MODIFIED:20230216T170033Z
UID:14664-1702404000-1702407600@thehappierlifeproject.org
SUMMARY:Live Group Peer Support @ We Level Up
DESCRIPTION:  \n \n  \nJoin us in a safe and inclusive recovery space! \nThe Happier Life Project holds in Person Group Peer Support meetings every Tuesday at 6pm Pacific. All are welcome! 
URL:https://thehappierlifeproject.org/event/live-group-peer-support-we-level-up-2023-12-12/
LOCATION:We Level Up\, 31631 Auto Center Dr\,\, Lake Elsinore\, CA\, 92530\, United States
END:VEVENT
BEGIN:VEVENT
DTSTART;TZID=America/Los_Angeles:20231211T180000
DTEND;TZID=America/Los_Angeles:20231211T190000
DTSTAMP:20260425T173353
CREATED:20230403T125147Z
LAST-MODIFIED:20230403T125147Z
UID:14606-1702317600-1702321200@thehappierlifeproject.org
SUMMARY:Virtual Group Peer Support
DESCRIPTION:Join us in a safe and inclusive recovery space! \nThe Happier Life Project holds Virtual Group Peer Support meetings every Monday at 6pm Pacific. All are welcome!  \nhttps://us02web.zoom.us/meeting/register/tZMlceuorTsoGtOFM9g9iZrQI4FOvKs4fMc6
URL:https://thehappierlifeproject.org/event/virtual-group-peer-support-2023-12-11/
LOCATION:CA
END:VEVENT
BEGIN:VEVENT
DTSTART;TZID=America/Los_Angeles:20231211T110000
DTEND;TZID=America/Los_Angeles:20231211T110000
DTSTAMP:20260425T173353
CREATED:20230406T125740Z
LAST-MODIFIED:20230406T125740Z
UID:14707-1702292400-1702292400@thehappierlifeproject.org
SUMMARY:Monthly Water Ceremony
DESCRIPTION:  \nJoin us in honor of Dr. Emoto’s worldwide Water Ceremony and Indigenous people across Turtle Island. Meet us at 500 Lakeshore Drive\, Lake Elsinore on the 11th of every month.
URL:https://thehappierlifeproject.org/event/monthly-water-ceremony-2023-12-11/
LOCATION:Lake Elsinore\, 500 Lakeshore Drive\, Lake Elsinore\, CA\, United States
END:VEVENT
BEGIN:VEVENT
DTSTART;TZID=UTC:20231208T120000
DTEND;TZID=UTC:20231208T130000
DTSTAMP:20260425T173353
CREATED:20230705T184305Z
LAST-MODIFIED:20230705T184305Z
UID:15408-1702036800-1702040400@thehappierlifeproject.org
SUMMARY:Honoring the Circle: Red Road to Wellbriety
DESCRIPTION:
URL:https://thehappierlifeproject.org/event/honoring-the-circle-red-road-to-wellbriety-2023-12-08/
LOCATION:Mindful Lotus\, 115 W Franklin St\, Lake Elsinore\, CA\, 92530\, United States
END:VEVENT
BEGIN:VEVENT
DTSTART;TZID=America/Los_Angeles:20231206T120000
DTEND;TZID=America/Los_Angeles:20231206T130000
DTSTAMP:20260425T173353
CREATED:20221130T212222Z
LAST-MODIFIED:20230403T123705Z
UID:13515-1701864000-1701867600@thehappierlifeproject.org
SUMMARY:All Recovery Meeting
DESCRIPTION:Everybody Needs Support\nNo matter who we are or where we come from\, we all face challenges. Research shows that the single most important factor which determines physical and emotional health\, as well as success\, is social support. We KNOW that everyone thrives in a community of support\, especially when times are tough. Isolation and lack of support make all feelings and experiences harder to bear. So\, having a strong social support system is not only helpful\, it’s essential to us and our families. \nMeeting ID: 817 9920 3682 \nhttps://us02web.zoom.us/meeting/register/tZUqfuCqrjgsEtao43VyFSAHIfmCxtRBe-Mw
URL:https://thehappierlifeproject.org/event/all-recovery-meeting-8-2023-12-06/
LOCATION:CA
END:VEVENT
BEGIN:VEVENT
DTSTART;TZID=America/Los_Angeles:20231205T180000
DTEND;TZID=America/Los_Angeles:20231205T190000
DTSTAMP:20260425T173353
CREATED:20230216T170033Z
LAST-MODIFIED:20230328T143736Z
UID:13998-1701799200-1701802800@thehappierlifeproject.org
SUMMARY:Live Group Peer Support @ We Level Up
DESCRIPTION:  \n \n  \nJoin us in a safe and inclusive recovery space! \nThe Happier Life Project holds in Person Group Peer Support meetings 1st\, 3rd and 5th Tuesday at 6pm Pacific. All are welcome! 
URL:https://thehappierlifeproject.org/event/live-group-peer-support-we-level-up-2023-12-05/
LOCATION:We Level Up\, 31631 Auto Center Dr\,\, Lake Elsinore\, CA\, 92530\, United States
END:VEVENT
BEGIN:VEVENT
DTSTART;TZID=America/Los_Angeles:20231204T180000
DTEND;TZID=America/Los_Angeles:20231204T190000
DTSTAMP:20260425T173353
CREATED:20230403T125147Z
LAST-MODIFIED:20230403T125147Z
UID:14605-1701712800-1701716400@thehappierlifeproject.org
SUMMARY:Virtual Group Peer Support
DESCRIPTION:Join us in a safe and inclusive recovery space! \nThe Happier Life Project holds Virtual Group Peer Support meetings every Monday at 6pm Pacific. All are welcome!  \nhttps://us02web.zoom.us/meeting/register/tZMlceuorTsoGtOFM9g9iZrQI4FOvKs4fMc6
URL:https://thehappierlifeproject.org/event/virtual-group-peer-support-2023-12-04/
LOCATION:CA
END:VEVENT
BEGIN:VEVENT
DTSTART;TZID=UTC:20231201T120000
DTEND;TZID=UTC:20231201T130000
DTSTAMP:20260425T173353
CREATED:20230705T184305Z
LAST-MODIFIED:20230705T184305Z
UID:15407-1701432000-1701435600@thehappierlifeproject.org
SUMMARY:Honoring the Circle: Red Road to Wellbriety
DESCRIPTION:
URL:https://thehappierlifeproject.org/event/honoring-the-circle-red-road-to-wellbriety-2023-12-01/
LOCATION:Mindful Lotus\, 115 W Franklin St\, Lake Elsinore\, CA\, 92530\, United States
END:VEVENT
BEGIN:VEVENT
DTSTART;TZID=America/Los_Angeles:20231129T120000
DTEND;TZID=America/Los_Angeles:20231129T130000
DTSTAMP:20260425T173353
CREATED:20221130T212222Z
LAST-MODIFIED:20230403T123705Z
UID:13514-1701259200-1701262800@thehappierlifeproject.org
SUMMARY:All Recovery Meeting
DESCRIPTION:Everybody Needs Support\nNo matter who we are or where we come from\, we all face challenges. Research shows that the single most important factor which determines physical and emotional health\, as well as success\, is social support. We KNOW that everyone thrives in a community of support\, especially when times are tough. Isolation and lack of support make all feelings and experiences harder to bear. So\, having a strong social support system is not only helpful\, it’s essential to us and our families. \nMeeting ID: 817 9920 3682 \nhttps://us02web.zoom.us/meeting/register/tZUqfuCqrjgsEtao43VyFSAHIfmCxtRBe-Mw
URL:https://thehappierlifeproject.org/event/all-recovery-meeting-8-2023-11-29/
LOCATION:CA
END:VEVENT
BEGIN:VEVENT
DTSTART;TZID=America/Los_Angeles:20231128T180000
DTEND;TZID=America/Los_Angeles:20231128T190000
DTSTAMP:20260425T173353
CREATED:20230216T170033Z
LAST-MODIFIED:20230216T170033Z
UID:14663-1701194400-1701198000@thehappierlifeproject.org
SUMMARY:Live Group Peer Support @ We Level Up
DESCRIPTION:  \n \n  \nJoin us in a safe and inclusive recovery space! \nThe Happier Life Project holds in Person Group Peer Support meetings every Tuesday at 6pm Pacific. All are welcome! 
URL:https://thehappierlifeproject.org/event/live-group-peer-support-we-level-up-2023-11-28/
LOCATION:We Level Up\, 31631 Auto Center Dr\,\, Lake Elsinore\, CA\, 92530\, United States
END:VEVENT
BEGIN:VEVENT
DTSTART;TZID=America/Los_Angeles:20231127T180000
DTEND;TZID=America/Los_Angeles:20231127T190000
DTSTAMP:20260425T173353
CREATED:20230403T125147Z
LAST-MODIFIED:20230403T125147Z
UID:14604-1701108000-1701111600@thehappierlifeproject.org
SUMMARY:Virtual Group Peer Support
DESCRIPTION:Join us in a safe and inclusive recovery space! \nThe Happier Life Project holds Virtual Group Peer Support meetings every Monday at 6pm Pacific. All are welcome!  \nhttps://us02web.zoom.us/meeting/register/tZMlceuorTsoGtOFM9g9iZrQI4FOvKs4fMc6
URL:https://thehappierlifeproject.org/event/virtual-group-peer-support-2023-11-27/
LOCATION:CA
END:VEVENT
BEGIN:VEVENT
DTSTART;TZID=UTC:20231124T120000
DTEND;TZID=UTC:20231124T130000
DTSTAMP:20260425T173353
CREATED:20230705T184305Z
LAST-MODIFIED:20230705T184305Z
UID:15406-1700827200-1700830800@thehappierlifeproject.org
SUMMARY:Honoring the Circle: Red Road to Wellbriety
DESCRIPTION:
URL:https://thehappierlifeproject.org/event/honoring-the-circle-red-road-to-wellbriety-2023-11-24/
LOCATION:Mindful Lotus\, 115 W Franklin St\, Lake Elsinore\, CA\, 92530\, United States
END:VEVENT
END:VCALENDAR