BEGIN:VCALENDAR
VERSION:2.0
PRODID:-//The Happier Life Project - ECPv6.15.3//NONSGML v1.0//EN
CALSCALE:GREGORIAN
METHOD:PUBLISH
X-WR-CALNAME:The Happier Life Project
X-ORIGINAL-URL:https://thehappierlifeproject.org
X-WR-CALDESC:Events for The Happier Life Project
REFRESH-INTERVAL;VALUE=DURATION:PT1H
X-Robots-Tag:noindex
X-PUBLISHED-TTL:PT1H
BEGIN:VTIMEZONE
TZID:America/Los_Angeles
BEGIN:DAYLIGHT
TZOFFSETFROM:-0800
TZOFFSETTO:-0700
TZNAME:PDT
DTSTART:20240310T100000
END:DAYLIGHT
BEGIN:STANDARD
TZOFFSETFROM:-0700
TZOFFSETTO:-0800
TZNAME:PST
DTSTART:20241103T090000
END:STANDARD
BEGIN:DAYLIGHT
TZOFFSETFROM:-0800
TZOFFSETTO:-0700
TZNAME:PDT
DTSTART:20250309T100000
END:DAYLIGHT
BEGIN:STANDARD
TZOFFSETFROM:-0700
TZOFFSETTO:-0800
TZNAME:PST
DTSTART:20251102T090000
END:STANDARD
END:VTIMEZONE
BEGIN:VEVENT
DTSTART;TZID=America/Los_Angeles:20250305T120000
DTEND;TZID=America/Los_Angeles:20250305T130000
DTSTAMP:20260424T193102
CREATED:20221130T212222Z
LAST-MODIFIED:20230403T123725Z
UID:14042-1741176000-1741179600@thehappierlifeproject.org
SUMMARY:All Recovery Meeting
DESCRIPTION:Everybody Needs Support\nNo matter who we are or where we come from\, we all face challenges. Research shows that the single most important factor which determines physical and emotional health\, as well as success\, is social support. We KNOW that everyone thrives in a community of support\, especially when times are tough. Isolation and lack of support make all feelings and experiences harder to bear. So\, having a strong social support system is not only helpful\, it’s essential to us and our families. \nMeeting ID: 817 9920 3682 \nhttps://us02web.zoom.us/meeting/register/tZUqfuCqrjgsEtao43VyFSAHIfmCxtRBe-Mw
URL:https://thehappierlifeproject.org/event/all-recovery-meeting-8-2025-03-05/
END:VEVENT
BEGIN:VEVENT
DTSTART;TZID=America/Los_Angeles:20250226T120000
DTEND;TZID=America/Los_Angeles:20250226T130000
DTSTAMP:20260424T193102
CREATED:20221130T212222Z
LAST-MODIFIED:20230403T123724Z
UID:14040-1740571200-1740574800@thehappierlifeproject.org
SUMMARY:All Recovery Meeting
DESCRIPTION:Everybody Needs Support\nNo matter who we are or where we come from\, we all face challenges. Research shows that the single most important factor which determines physical and emotional health\, as well as success\, is social support. We KNOW that everyone thrives in a community of support\, especially when times are tough. Isolation and lack of support make all feelings and experiences harder to bear. So\, having a strong social support system is not only helpful\, it’s essential to us and our families. \nMeeting ID: 817 9920 3682 \nhttps://us02web.zoom.us/meeting/register/tZUqfuCqrjgsEtao43VyFSAHIfmCxtRBe-Mw
URL:https://thehappierlifeproject.org/event/all-recovery-meeting-8-2025-02-26/
END:VEVENT
BEGIN:VEVENT
DTSTART;TZID=America/Los_Angeles:20250219T120000
DTEND;TZID=America/Los_Angeles:20250219T130000
DTSTAMP:20260424T193102
CREATED:20221130T212222Z
LAST-MODIFIED:20230403T123724Z
UID:14037-1739966400-1739970000@thehappierlifeproject.org
SUMMARY:All Recovery Meeting
DESCRIPTION:Everybody Needs Support\nNo matter who we are or where we come from\, we all face challenges. Research shows that the single most important factor which determines physical and emotional health\, as well as success\, is social support. We KNOW that everyone thrives in a community of support\, especially when times are tough. Isolation and lack of support make all feelings and experiences harder to bear. So\, having a strong social support system is not only helpful\, it’s essential to us and our families. \nMeeting ID: 817 9920 3682 \nhttps://us02web.zoom.us/meeting/register/tZUqfuCqrjgsEtao43VyFSAHIfmCxtRBe-Mw
URL:https://thehappierlifeproject.org/event/all-recovery-meeting-8-2025-02-19/
END:VEVENT
BEGIN:VEVENT
DTSTART;TZID=America/Los_Angeles:20250212T120000
DTEND;TZID=America/Los_Angeles:20250212T130000
DTSTAMP:20260424T193102
CREATED:20221130T212222Z
LAST-MODIFIED:20230403T123724Z
UID:13897-1739361600-1739365200@thehappierlifeproject.org
SUMMARY:All Recovery Meeting
DESCRIPTION:Everybody Needs Support\nNo matter who we are or where we come from\, we all face challenges. Research shows that the single most important factor which determines physical and emotional health\, as well as success\, is social support. We KNOW that everyone thrives in a community of support\, especially when times are tough. Isolation and lack of support make all feelings and experiences harder to bear. So\, having a strong social support system is not only helpful\, it’s essential to us and our families. \nMeeting ID: 817 9920 3682 \nhttps://us02web.zoom.us/meeting/register/tZUqfuCqrjgsEtao43VyFSAHIfmCxtRBe-Mw
URL:https://thehappierlifeproject.org/event/all-recovery-meeting-8-2025-02-12/
END:VEVENT
BEGIN:VEVENT
DTSTART;TZID=America/Los_Angeles:20250205T120000
DTEND;TZID=America/Los_Angeles:20250205T130000
DTSTAMP:20260424T193102
CREATED:20221130T212222Z
LAST-MODIFIED:20230403T123724Z
UID:13895-1738756800-1738760400@thehappierlifeproject.org
SUMMARY:All Recovery Meeting
DESCRIPTION:Everybody Needs Support\nNo matter who we are or where we come from\, we all face challenges. Research shows that the single most important factor which determines physical and emotional health\, as well as success\, is social support. We KNOW that everyone thrives in a community of support\, especially when times are tough. Isolation and lack of support make all feelings and experiences harder to bear. So\, having a strong social support system is not only helpful\, it’s essential to us and our families. \nMeeting ID: 817 9920 3682 \nhttps://us02web.zoom.us/meeting/register/tZUqfuCqrjgsEtao43VyFSAHIfmCxtRBe-Mw
URL:https://thehappierlifeproject.org/event/all-recovery-meeting-8-2025-02-05/
END:VEVENT
BEGIN:VEVENT
DTSTART;TZID=America/Los_Angeles:20250129T120000
DTEND;TZID=America/Los_Angeles:20250129T130000
DTSTAMP:20260424T193102
CREATED:20221130T212222Z
LAST-MODIFIED:20230403T123723Z
UID:13846-1738152000-1738155600@thehappierlifeproject.org
SUMMARY:All Recovery Meeting
DESCRIPTION:Everybody Needs Support\nNo matter who we are or where we come from\, we all face challenges. Research shows that the single most important factor which determines physical and emotional health\, as well as success\, is social support. We KNOW that everyone thrives in a community of support\, especially when times are tough. Isolation and lack of support make all feelings and experiences harder to bear. So\, having a strong social support system is not only helpful\, it’s essential to us and our families. \nMeeting ID: 817 9920 3682 \nhttps://us02web.zoom.us/meeting/register/tZUqfuCqrjgsEtao43VyFSAHIfmCxtRBe-Mw
URL:https://thehappierlifeproject.org/event/all-recovery-meeting-8-2025-01-29/
END:VEVENT
BEGIN:VEVENT
DTSTART;TZID=America/Los_Angeles:20250122T120000
DTEND;TZID=America/Los_Angeles:20250122T130000
DTSTAMP:20260424T193102
CREATED:20221130T212222Z
LAST-MODIFIED:20230403T123723Z
UID:13834-1737547200-1737550800@thehappierlifeproject.org
SUMMARY:All Recovery Meeting
DESCRIPTION:Everybody Needs Support\nNo matter who we are or where we come from\, we all face challenges. Research shows that the single most important factor which determines physical and emotional health\, as well as success\, is social support. We KNOW that everyone thrives in a community of support\, especially when times are tough. Isolation and lack of support make all feelings and experiences harder to bear. So\, having a strong social support system is not only helpful\, it’s essential to us and our families. \nMeeting ID: 817 9920 3682 \nhttps://us02web.zoom.us/meeting/register/tZUqfuCqrjgsEtao43VyFSAHIfmCxtRBe-Mw
URL:https://thehappierlifeproject.org/event/all-recovery-meeting-8-2025-01-22/
END:VEVENT
BEGIN:VEVENT
DTSTART;TZID=America/Los_Angeles:20250121T180000
DTEND;TZID=America/Los_Angeles:20250121T190000
DTSTAMP:20260424T193102
CREATED:20230216T170033Z
LAST-MODIFIED:20230328T143744Z
UID:14030-1737482400-1737486000@thehappierlifeproject.org
SUMMARY:Live Group Peer Support @ We Level Up
DESCRIPTION:  \n \n  \nJoin us in a safe and inclusive recovery space! \nThe Happier Life Project holds in Person Group Peer Support meetings 1st\, 3rd and 5th Tuesday at 6pm Pacific. All are welcome! 
URL:https://thehappierlifeproject.org/event/live-group-peer-support-we-level-up-2025-01-21/
LOCATION:We Level Up\, 31631 Auto Center Dr\,\, Lake Elsinore\, CA\, 92530\, United States
END:VEVENT
BEGIN:VEVENT
DTSTART;TZID=America/Los_Angeles:20250115T120000
DTEND;TZID=America/Los_Angeles:20250115T130000
DTSTAMP:20260424T193102
CREATED:20221130T212222Z
LAST-MODIFIED:20230403T123723Z
UID:13830-1736942400-1736946000@thehappierlifeproject.org
SUMMARY:All Recovery Meeting
DESCRIPTION:Everybody Needs Support\nNo matter who we are or where we come from\, we all face challenges. Research shows that the single most important factor which determines physical and emotional health\, as well as success\, is social support. We KNOW that everyone thrives in a community of support\, especially when times are tough. Isolation and lack of support make all feelings and experiences harder to bear. So\, having a strong social support system is not only helpful\, it’s essential to us and our families. \nMeeting ID: 817 9920 3682 \nhttps://us02web.zoom.us/meeting/register/tZUqfuCqrjgsEtao43VyFSAHIfmCxtRBe-Mw
URL:https://thehappierlifeproject.org/event/all-recovery-meeting-8-2025-01-15/
END:VEVENT
BEGIN:VEVENT
DTSTART;TZID=America/Los_Angeles:20250108T120000
DTEND;TZID=America/Los_Angeles:20250108T130000
DTSTAMP:20260424T193102
CREATED:20221130T212222Z
LAST-MODIFIED:20230403T123722Z
UID:13824-1736337600-1736341200@thehappierlifeproject.org
SUMMARY:All Recovery Meeting
DESCRIPTION:Everybody Needs Support\nNo matter who we are or where we come from\, we all face challenges. Research shows that the single most important factor which determines physical and emotional health\, as well as success\, is social support. We KNOW that everyone thrives in a community of support\, especially when times are tough. Isolation and lack of support make all feelings and experiences harder to bear. So\, having a strong social support system is not only helpful\, it’s essential to us and our families. \nMeeting ID: 817 9920 3682 \nhttps://us02web.zoom.us/meeting/register/tZUqfuCqrjgsEtao43VyFSAHIfmCxtRBe-Mw
URL:https://thehappierlifeproject.org/event/all-recovery-meeting-8-2025-01-08/
END:VEVENT
BEGIN:VEVENT
DTSTART;TZID=America/Los_Angeles:20250107T180000
DTEND;TZID=America/Los_Angeles:20250107T190000
DTSTAMP:20260424T193102
CREATED:20230216T170033Z
LAST-MODIFIED:20230328T143744Z
UID:14029-1736272800-1736276400@thehappierlifeproject.org
SUMMARY:Live Group Peer Support @ We Level Up
DESCRIPTION:  \n \n  \nJoin us in a safe and inclusive recovery space! \nThe Happier Life Project holds in Person Group Peer Support meetings 1st\, 3rd and 5th Tuesday at 6pm Pacific. All are welcome! 
URL:https://thehappierlifeproject.org/event/live-group-peer-support-we-level-up-2025-01-07/
LOCATION:We Level Up\, 31631 Auto Center Dr\,\, Lake Elsinore\, CA\, 92530\, United States
END:VEVENT
BEGIN:VEVENT
DTSTART;TZID=America/Los_Angeles:20250101T120000
DTEND;TZID=America/Los_Angeles:20250101T130000
DTSTAMP:20260424T193102
CREATED:20221130T212222Z
LAST-MODIFIED:20230403T123722Z
UID:13821-1735732800-1735736400@thehappierlifeproject.org
SUMMARY:All Recovery Meeting
DESCRIPTION:Everybody Needs Support\nNo matter who we are or where we come from\, we all face challenges. Research shows that the single most important factor which determines physical and emotional health\, as well as success\, is social support. We KNOW that everyone thrives in a community of support\, especially when times are tough. Isolation and lack of support make all feelings and experiences harder to bear. So\, having a strong social support system is not only helpful\, it’s essential to us and our families. \nMeeting ID: 817 9920 3682 \nhttps://us02web.zoom.us/meeting/register/tZUqfuCqrjgsEtao43VyFSAHIfmCxtRBe-Mw
URL:https://thehappierlifeproject.org/event/all-recovery-meeting-8-2025-01-01/
END:VEVENT
BEGIN:VEVENT
DTSTART;TZID=America/Los_Angeles:20241231T180000
DTEND;TZID=America/Los_Angeles:20241231T190000
DTSTAMP:20260424T193102
CREATED:20230216T170033Z
LAST-MODIFIED:20230216T170033Z
UID:14159-1735668000-1735671600@thehappierlifeproject.org
SUMMARY:Live Group Peer Support @ We Level Up
DESCRIPTION:  \n \n  \nJoin us in a safe and inclusive recovery space! \nThe Happier Life Project holds in Person Group Peer Support meetings 1st\, 3rd and 5th Tuesday at 6pm Pacific. All are welcome! 
URL:https://thehappierlifeproject.org/event/live-group-peer-support-we-level-up-2024-12-31/
LOCATION:We Level Up\, 31631 Auto Center Dr\,\, Lake Elsinore\, CA\, 92530\, United States
END:VEVENT
BEGIN:VEVENT
DTSTART;TZID=America/Los_Angeles:20241225T120000
DTEND;TZID=America/Los_Angeles:20241225T130000
DTSTAMP:20260424T193102
CREATED:20221130T212222Z
LAST-MODIFIED:20230403T123721Z
UID:13813-1735128000-1735131600@thehappierlifeproject.org
SUMMARY:All Recovery Meeting
DESCRIPTION:Everybody Needs Support\nNo matter who we are or where we come from\, we all face challenges. Research shows that the single most important factor which determines physical and emotional health\, as well as success\, is social support. We KNOW that everyone thrives in a community of support\, especially when times are tough. Isolation and lack of support make all feelings and experiences harder to bear. So\, having a strong social support system is not only helpful\, it’s essential to us and our families. \nMeeting ID: 817 9920 3682 \nhttps://us02web.zoom.us/meeting/register/tZUqfuCqrjgsEtao43VyFSAHIfmCxtRBe-Mw
URL:https://thehappierlifeproject.org/event/all-recovery-meeting-8-2024-12-25/
END:VEVENT
BEGIN:VEVENT
DTSTART;TZID=America/Los_Angeles:20241218T120000
DTEND;TZID=America/Los_Angeles:20241218T130000
DTSTAMP:20260424T193102
CREATED:20221130T212222Z
LAST-MODIFIED:20230403T123721Z
UID:13810-1734523200-1734526800@thehappierlifeproject.org
SUMMARY:All Recovery Meeting
DESCRIPTION:Everybody Needs Support\nNo matter who we are or where we come from\, we all face challenges. Research shows that the single most important factor which determines physical and emotional health\, as well as success\, is social support. We KNOW that everyone thrives in a community of support\, especially when times are tough. Isolation and lack of support make all feelings and experiences harder to bear. So\, having a strong social support system is not only helpful\, it’s essential to us and our families. \nMeeting ID: 817 9920 3682 \nhttps://us02web.zoom.us/meeting/register/tZUqfuCqrjgsEtao43VyFSAHIfmCxtRBe-Mw
URL:https://thehappierlifeproject.org/event/all-recovery-meeting-8-2024-12-18/
END:VEVENT
BEGIN:VEVENT
DTSTART;TZID=America/Los_Angeles:20241217T180000
DTEND;TZID=America/Los_Angeles:20241217T190000
DTSTAMP:20260424T193102
CREATED:20230216T170033Z
LAST-MODIFIED:20230328T143744Z
UID:14027-1734458400-1734462000@thehappierlifeproject.org
SUMMARY:Live Group Peer Support @ We Level Up
DESCRIPTION:  \n \n  \nJoin us in a safe and inclusive recovery space! \nThe Happier Life Project holds in Person Group Peer Support meetings 1st\, 3rd and 5th Tuesday at 6pm Pacific. All are welcome! 
URL:https://thehappierlifeproject.org/event/live-group-peer-support-we-level-up-2024-12-17/
LOCATION:We Level Up\, 31631 Auto Center Dr\,\, Lake Elsinore\, CA\, 92530\, United States
END:VEVENT
BEGIN:VEVENT
DTSTART;TZID=America/Los_Angeles:20241211T120000
DTEND;TZID=America/Los_Angeles:20241211T130000
DTSTAMP:20260424T193102
CREATED:20221130T212222Z
LAST-MODIFIED:20230403T123721Z
UID:13797-1733918400-1733922000@thehappierlifeproject.org
SUMMARY:All Recovery Meeting
DESCRIPTION:Everybody Needs Support\nNo matter who we are or where we come from\, we all face challenges. Research shows that the single most important factor which determines physical and emotional health\, as well as success\, is social support. We KNOW that everyone thrives in a community of support\, especially when times are tough. Isolation and lack of support make all feelings and experiences harder to bear. So\, having a strong social support system is not only helpful\, it’s essential to us and our families. \nMeeting ID: 817 9920 3682 \nhttps://us02web.zoom.us/meeting/register/tZUqfuCqrjgsEtao43VyFSAHIfmCxtRBe-Mw
URL:https://thehappierlifeproject.org/event/all-recovery-meeting-8-2024-12-11/
END:VEVENT
BEGIN:VEVENT
DTSTART;TZID=America/Los_Angeles:20241204T120000
DTEND;TZID=America/Los_Angeles:20241204T130000
DTSTAMP:20260424T193102
CREATED:20221130T212222Z
LAST-MODIFIED:20230403T123720Z
UID:13793-1733313600-1733317200@thehappierlifeproject.org
SUMMARY:All Recovery Meeting
DESCRIPTION:Everybody Needs Support\nNo matter who we are or where we come from\, we all face challenges. Research shows that the single most important factor which determines physical and emotional health\, as well as success\, is social support. We KNOW that everyone thrives in a community of support\, especially when times are tough. Isolation and lack of support make all feelings and experiences harder to bear. So\, having a strong social support system is not only helpful\, it’s essential to us and our families. \nMeeting ID: 817 9920 3682 \nhttps://us02web.zoom.us/meeting/register/tZUqfuCqrjgsEtao43VyFSAHIfmCxtRBe-Mw
URL:https://thehappierlifeproject.org/event/all-recovery-meeting-8-2024-12-04/
END:VEVENT
BEGIN:VEVENT
DTSTART;TZID=America/Los_Angeles:20241203T180000
DTEND;TZID=America/Los_Angeles:20241203T190000
DTSTAMP:20260424T193102
CREATED:20230216T170033Z
LAST-MODIFIED:20230328T143743Z
UID:14026-1733248800-1733252400@thehappierlifeproject.org
SUMMARY:Live Group Peer Support @ We Level Up
DESCRIPTION:  \n \n  \nJoin us in a safe and inclusive recovery space! \nThe Happier Life Project holds in Person Group Peer Support meetings 1st\, 3rd and 5th Tuesday at 6pm Pacific. All are welcome! 
URL:https://thehappierlifeproject.org/event/live-group-peer-support-we-level-up-2024-12-03/
LOCATION:We Level Up\, 31631 Auto Center Dr\,\, Lake Elsinore\, CA\, 92530\, United States
END:VEVENT
BEGIN:VEVENT
DTSTART;TZID=America/Los_Angeles:20241127T120000
DTEND;TZID=America/Los_Angeles:20241127T130000
DTSTAMP:20260424T193102
CREATED:20221130T212222Z
LAST-MODIFIED:20230403T123720Z
UID:13566-1732708800-1732712400@thehappierlifeproject.org
SUMMARY:All Recovery Meeting
DESCRIPTION:Everybody Needs Support\nNo matter who we are or where we come from\, we all face challenges. Research shows that the single most important factor which determines physical and emotional health\, as well as success\, is social support. We KNOW that everyone thrives in a community of support\, especially when times are tough. Isolation and lack of support make all feelings and experiences harder to bear. So\, having a strong social support system is not only helpful\, it’s essential to us and our families. \nMeeting ID: 817 9920 3682 \nhttps://us02web.zoom.us/meeting/register/tZUqfuCqrjgsEtao43VyFSAHIfmCxtRBe-Mw
URL:https://thehappierlifeproject.org/event/all-recovery-meeting-8-2024-11-27/
END:VEVENT
BEGIN:VEVENT
DTSTART;TZID=America/Los_Angeles:20241120T120000
DTEND;TZID=America/Los_Angeles:20241120T130000
DTSTAMP:20260424T193102
CREATED:20221130T212222Z
LAST-MODIFIED:20230403T123720Z
UID:13565-1732104000-1732107600@thehappierlifeproject.org
SUMMARY:All Recovery Meeting
DESCRIPTION:Everybody Needs Support\nNo matter who we are or where we come from\, we all face challenges. Research shows that the single most important factor which determines physical and emotional health\, as well as success\, is social support. We KNOW that everyone thrives in a community of support\, especially when times are tough. Isolation and lack of support make all feelings and experiences harder to bear. So\, having a strong social support system is not only helpful\, it’s essential to us and our families. \nMeeting ID: 817 9920 3682 \nhttps://us02web.zoom.us/meeting/register/tZUqfuCqrjgsEtao43VyFSAHIfmCxtRBe-Mw
URL:https://thehappierlifeproject.org/event/all-recovery-meeting-8-2024-11-20/
END:VEVENT
BEGIN:VEVENT
DTSTART;TZID=America/Los_Angeles:20241119T180000
DTEND;TZID=America/Los_Angeles:20241119T190000
DTSTAMP:20260424T193102
CREATED:20230216T170033Z
LAST-MODIFIED:20230328T143743Z
UID:14025-1732039200-1732042800@thehappierlifeproject.org
SUMMARY:Live Group Peer Support @ We Level Up
DESCRIPTION:  \n \n  \nJoin us in a safe and inclusive recovery space! \nThe Happier Life Project holds in Person Group Peer Support meetings 1st\, 3rd and 5th Tuesday at 6pm Pacific. All are welcome! 
URL:https://thehappierlifeproject.org/event/live-group-peer-support-we-level-up-2024-11-19/
LOCATION:We Level Up\, 31631 Auto Center Dr\,\, Lake Elsinore\, CA\, 92530\, United States
END:VEVENT
BEGIN:VEVENT
DTSTART;TZID=America/Los_Angeles:20241113T120000
DTEND;TZID=America/Los_Angeles:20241113T130000
DTSTAMP:20260424T193102
CREATED:20221130T212222Z
LAST-MODIFIED:20230403T123720Z
UID:13564-1731499200-1731502800@thehappierlifeproject.org
SUMMARY:All Recovery Meeting
DESCRIPTION:Everybody Needs Support\nNo matter who we are or where we come from\, we all face challenges. Research shows that the single most important factor which determines physical and emotional health\, as well as success\, is social support. We KNOW that everyone thrives in a community of support\, especially when times are tough. Isolation and lack of support make all feelings and experiences harder to bear. So\, having a strong social support system is not only helpful\, it’s essential to us and our families. \nMeeting ID: 817 9920 3682 \nhttps://us02web.zoom.us/meeting/register/tZUqfuCqrjgsEtao43VyFSAHIfmCxtRBe-Mw
URL:https://thehappierlifeproject.org/event/all-recovery-meeting-8-2024-11-13/
END:VEVENT
BEGIN:VEVENT
DTSTART;TZID=America/Los_Angeles:20241106T120000
DTEND;TZID=America/Los_Angeles:20241106T130000
DTSTAMP:20260424T193102
CREATED:20221130T212222Z
LAST-MODIFIED:20230403T123719Z
UID:13563-1730894400-1730898000@thehappierlifeproject.org
SUMMARY:All Recovery Meeting
DESCRIPTION:Everybody Needs Support\nNo matter who we are or where we come from\, we all face challenges. Research shows that the single most important factor which determines physical and emotional health\, as well as success\, is social support. We KNOW that everyone thrives in a community of support\, especially when times are tough. Isolation and lack of support make all feelings and experiences harder to bear. So\, having a strong social support system is not only helpful\, it’s essential to us and our families. \nMeeting ID: 817 9920 3682 \nhttps://us02web.zoom.us/meeting/register/tZUqfuCqrjgsEtao43VyFSAHIfmCxtRBe-Mw
URL:https://thehappierlifeproject.org/event/all-recovery-meeting-8-2024-11-06/
END:VEVENT
BEGIN:VEVENT
DTSTART;TZID=America/Los_Angeles:20241105T180000
DTEND;TZID=America/Los_Angeles:20241105T190000
DTSTAMP:20260424T193102
CREATED:20230216T170033Z
LAST-MODIFIED:20230328T143742Z
UID:14024-1730829600-1730833200@thehappierlifeproject.org
SUMMARY:Live Group Peer Support @ We Level Up
DESCRIPTION:  \n \n  \nJoin us in a safe and inclusive recovery space! \nThe Happier Life Project holds in Person Group Peer Support meetings 1st\, 3rd and 5th Tuesday at 6pm Pacific. All are welcome! 
URL:https://thehappierlifeproject.org/event/live-group-peer-support-we-level-up-2024-11-05/
LOCATION:We Level Up\, 31631 Auto Center Dr\,\, Lake Elsinore\, CA\, 92530\, United States
END:VEVENT
BEGIN:VEVENT
DTSTART;TZID=America/Los_Angeles:20241030T120000
DTEND;TZID=America/Los_Angeles:20241030T130000
DTSTAMP:20260424T193102
CREATED:20221130T212222Z
LAST-MODIFIED:20230403T123718Z
UID:13562-1730289600-1730293200@thehappierlifeproject.org
SUMMARY:All Recovery Meeting
DESCRIPTION:Everybody Needs Support\nNo matter who we are or where we come from\, we all face challenges. Research shows that the single most important factor which determines physical and emotional health\, as well as success\, is social support. We KNOW that everyone thrives in a community of support\, especially when times are tough. Isolation and lack of support make all feelings and experiences harder to bear. So\, having a strong social support system is not only helpful\, it’s essential to us and our families. \nMeeting ID: 817 9920 3682 \nhttps://us02web.zoom.us/meeting/register/tZUqfuCqrjgsEtao43VyFSAHIfmCxtRBe-Mw
URL:https://thehappierlifeproject.org/event/all-recovery-meeting-8-2024-10-30/
END:VEVENT
BEGIN:VEVENT
DTSTART;TZID=America/Los_Angeles:20241029T180000
DTEND;TZID=America/Los_Angeles:20241029T190000
DTSTAMP:20260424T193102
CREATED:20230216T170033Z
LAST-MODIFIED:20230216T170033Z
UID:14158-1730224800-1730228400@thehappierlifeproject.org
SUMMARY:Live Group Peer Support @ We Level Up
DESCRIPTION:  \n \n  \nJoin us in a safe and inclusive recovery space! \nThe Happier Life Project holds in Person Group Peer Support meetings 1st\, 3rd and 5th Tuesday at 6pm Pacific. All are welcome! 
URL:https://thehappierlifeproject.org/event/live-group-peer-support-we-level-up-2024-10-29/
LOCATION:We Level Up\, 31631 Auto Center Dr\,\, Lake Elsinore\, CA\, 92530\, United States
END:VEVENT
BEGIN:VEVENT
DTSTART;TZID=America/Los_Angeles:20241023T120000
DTEND;TZID=America/Los_Angeles:20241023T130000
DTSTAMP:20260424T193102
CREATED:20221130T212222Z
LAST-MODIFIED:20230403T123718Z
UID:13561-1729684800-1729688400@thehappierlifeproject.org
SUMMARY:All Recovery Meeting
DESCRIPTION:Everybody Needs Support\nNo matter who we are or where we come from\, we all face challenges. Research shows that the single most important factor which determines physical and emotional health\, as well as success\, is social support. We KNOW that everyone thrives in a community of support\, especially when times are tough. Isolation and lack of support make all feelings and experiences harder to bear. So\, having a strong social support system is not only helpful\, it’s essential to us and our families. \nMeeting ID: 817 9920 3682 \nhttps://us02web.zoom.us/meeting/register/tZUqfuCqrjgsEtao43VyFSAHIfmCxtRBe-Mw
URL:https://thehappierlifeproject.org/event/all-recovery-meeting-8-2024-10-23/
END:VEVENT
BEGIN:VEVENT
DTSTART;TZID=America/Los_Angeles:20241016T120000
DTEND;TZID=America/Los_Angeles:20241016T130000
DTSTAMP:20260424T193102
CREATED:20221130T212222Z
LAST-MODIFIED:20230403T123718Z
UID:13560-1729080000-1729083600@thehappierlifeproject.org
SUMMARY:All Recovery Meeting
DESCRIPTION:Everybody Needs Support\nNo matter who we are or where we come from\, we all face challenges. Research shows that the single most important factor which determines physical and emotional health\, as well as success\, is social support. We KNOW that everyone thrives in a community of support\, especially when times are tough. Isolation and lack of support make all feelings and experiences harder to bear. So\, having a strong social support system is not only helpful\, it’s essential to us and our families. \nMeeting ID: 817 9920 3682 \nhttps://us02web.zoom.us/meeting/register/tZUqfuCqrjgsEtao43VyFSAHIfmCxtRBe-Mw
URL:https://thehappierlifeproject.org/event/all-recovery-meeting-8-2024-10-16/
END:VEVENT
BEGIN:VEVENT
DTSTART;TZID=America/Los_Angeles:20241015T180000
DTEND;TZID=America/Los_Angeles:20241015T190000
DTSTAMP:20260424T193102
CREATED:20230216T170033Z
LAST-MODIFIED:20230328T143742Z
UID:14023-1729015200-1729018800@thehappierlifeproject.org
SUMMARY:Live Group Peer Support @ We Level Up
DESCRIPTION:  \n \n  \nJoin us in a safe and inclusive recovery space! \nThe Happier Life Project holds in Person Group Peer Support meetings 1st\, 3rd and 5th Tuesday at 6pm Pacific. All are welcome! 
URL:https://thehappierlifeproject.org/event/live-group-peer-support-we-level-up-2024-10-15/
LOCATION:We Level Up\, 31631 Auto Center Dr\,\, Lake Elsinore\, CA\, 92530\, United States
END:VEVENT
END:VCALENDAR