BEGIN:VCALENDAR
VERSION:2.0
PRODID:-//The Happier Life Project - ECPv6.15.3//NONSGML v1.0//EN
CALSCALE:GREGORIAN
METHOD:PUBLISH
X-ORIGINAL-URL:https://thehappierlifeproject.org
X-WR-CALDESC:Events for The Happier Life Project
REFRESH-INTERVAL;VALUE=DURATION:PT1H
X-Robots-Tag:noindex
X-PUBLISHED-TTL:PT1H
BEGIN:VTIMEZONE
TZID:America/Los_Angeles
BEGIN:DAYLIGHT
TZOFFSETFROM:-0800
TZOFFSETTO:-0700
TZNAME:PDT
DTSTART:20240310T100000
END:DAYLIGHT
BEGIN:STANDARD
TZOFFSETFROM:-0700
TZOFFSETTO:-0800
TZNAME:PST
DTSTART:20241103T090000
END:STANDARD
END:VTIMEZONE
BEGIN:VTIMEZONE
TZID:UTC
BEGIN:STANDARD
TZOFFSETFROM:+0000
TZOFFSETTO:+0000
TZNAME:UTC
DTSTART:20240101T000000
END:STANDARD
END:VTIMEZONE
BEGIN:VEVENT
DTSTART;TZID=America/Los_Angeles:20240917T180000
DTEND;TZID=America/Los_Angeles:20240917T190000
DTSTAMP:20260425T002436
CREATED:20230216T170033Z
LAST-MODIFIED:20230328T143742Z
UID:14020-1726596000-1726599600@thehappierlifeproject.org
SUMMARY:Live Group Peer Support @ We Level Up
DESCRIPTION:  \n \n  \nJoin us in a safe and inclusive recovery space! \nThe Happier Life Project holds in Person Group Peer Support meetings 1st\, 3rd and 5th Tuesday at 6pm Pacific. All are welcome! 
URL:https://thehappierlifeproject.org/event/live-group-peer-support-we-level-up-2024-09-17/
LOCATION:We Level Up\, 31631 Auto Center Dr\,\, Lake Elsinore\, CA\, 92530\, United States
END:VEVENT
BEGIN:VEVENT
DTSTART;TZID=America/Los_Angeles:20240911T120000
DTEND;TZID=America/Los_Angeles:20240911T130000
DTSTAMP:20260425T002436
CREATED:20221130T212222Z
LAST-MODIFIED:20230403T123717Z
UID:13555-1726056000-1726059600@thehappierlifeproject.org
SUMMARY:All Recovery Meeting
DESCRIPTION:Everybody Needs Support\nNo matter who we are or where we come from\, we all face challenges. Research shows that the single most important factor which determines physical and emotional health\, as well as success\, is social support. We KNOW that everyone thrives in a community of support\, especially when times are tough. Isolation and lack of support make all feelings and experiences harder to bear. So\, having a strong social support system is not only helpful\, it’s essential to us and our families. \nMeeting ID: 817 9920 3682 \nhttps://us02web.zoom.us/meeting/register/tZUqfuCqrjgsEtao43VyFSAHIfmCxtRBe-Mw
URL:https://thehappierlifeproject.org/event/all-recovery-meeting-8-2024-09-11/
LOCATION:CA
END:VEVENT
BEGIN:VEVENT
DTSTART;TZID=America/Los_Angeles:20240910T180000
DTEND;TZID=America/Los_Angeles:20240910T190000
DTSTAMP:20260425T002436
CREATED:20230216T170033Z
LAST-MODIFIED:20230216T170033Z
UID:14682-1725991200-1725994800@thehappierlifeproject.org
SUMMARY:Live Group Peer Support @ We Level Up
DESCRIPTION:  \n \n  \nJoin us in a safe and inclusive recovery space! \nThe Happier Life Project holds in Person Group Peer Support meetings every Tuesday at 6pm Pacific. All are welcome! 
URL:https://thehappierlifeproject.org/event/live-group-peer-support-we-level-up-2024-09-10/
LOCATION:We Level Up\, 31631 Auto Center Dr\,\, Lake Elsinore\, CA\, 92530\, United States
END:VEVENT
BEGIN:VEVENT
DTSTART;TZID=UTC:20240906T153000
DTEND;TZID=UTC:20240906T163000
DTSTAMP:20260425T002436
CREATED:20240626T195000Z
LAST-MODIFIED:20240626T195000Z
UID:16279-1725636600-1725640200@thehappierlifeproject.org
SUMMARY:Depression and Bipolar Support Alliance
DESCRIPTION: 
URL:https://thehappierlifeproject.org/event/depression-and-bipolar-support-alliance-6/
LOCATION:CA
CATEGORIES:Support Group
END:VEVENT
BEGIN:VEVENT
DTSTART;TZID=America/Los_Angeles:20240904T120000
DTEND;TZID=America/Los_Angeles:20240904T130000
DTSTAMP:20260425T002436
CREATED:20221130T212222Z
LAST-MODIFIED:20230403T123717Z
UID:13554-1725451200-1725454800@thehappierlifeproject.org
SUMMARY:All Recovery Meeting
DESCRIPTION:Everybody Needs Support\nNo matter who we are or where we come from\, we all face challenges. Research shows that the single most important factor which determines physical and emotional health\, as well as success\, is social support. We KNOW that everyone thrives in a community of support\, especially when times are tough. Isolation and lack of support make all feelings and experiences harder to bear. So\, having a strong social support system is not only helpful\, it’s essential to us and our families. \nMeeting ID: 817 9920 3682 \nhttps://us02web.zoom.us/meeting/register/tZUqfuCqrjgsEtao43VyFSAHIfmCxtRBe-Mw
URL:https://thehappierlifeproject.org/event/all-recovery-meeting-8-2024-09-04/
LOCATION:CA
END:VEVENT
BEGIN:VEVENT
DTSTART;TZID=America/Los_Angeles:20240903T180000
DTEND;TZID=America/Los_Angeles:20240903T190000
DTSTAMP:20260425T002436
CREATED:20230216T170033Z
LAST-MODIFIED:20230328T143741Z
UID:14019-1725386400-1725390000@thehappierlifeproject.org
SUMMARY:Live Group Peer Support @ We Level Up
DESCRIPTION:  \n \n  \nJoin us in a safe and inclusive recovery space! \nThe Happier Life Project holds in Person Group Peer Support meetings 1st\, 3rd and 5th Tuesday at 6pm Pacific. All are welcome! 
URL:https://thehappierlifeproject.org/event/live-group-peer-support-we-level-up-2024-09-03/
LOCATION:We Level Up\, 31631 Auto Center Dr\,\, Lake Elsinore\, CA\, 92530\, United States
END:VEVENT
BEGIN:VEVENT
DTSTART;TZID=UTC:20240830T153000
DTEND;TZID=UTC:20240830T163000
DTSTAMP:20260425T002436
CREATED:20240626T194918Z
LAST-MODIFIED:20240626T194918Z
UID:16280-1725031800-1725035400@thehappierlifeproject.org
SUMMARY:Depression and Bipolar Support Alliance
DESCRIPTION: 
URL:https://thehappierlifeproject.org/event/depression-and-bipolar-support-alliance-5/
LOCATION:CA
CATEGORIES:Support Group
END:VEVENT
BEGIN:VEVENT
DTSTART;TZID=America/Los_Angeles:20240828T120000
DTEND;TZID=America/Los_Angeles:20240828T130000
DTSTAMP:20260425T002436
CREATED:20221130T212222Z
LAST-MODIFIED:20230403T123716Z
UID:13553-1724846400-1724850000@thehappierlifeproject.org
SUMMARY:All Recovery Meeting
DESCRIPTION:Everybody Needs Support\nNo matter who we are or where we come from\, we all face challenges. Research shows that the single most important factor which determines physical and emotional health\, as well as success\, is social support. We KNOW that everyone thrives in a community of support\, especially when times are tough. Isolation and lack of support make all feelings and experiences harder to bear. So\, having a strong social support system is not only helpful\, it’s essential to us and our families. \nMeeting ID: 817 9920 3682 \nhttps://us02web.zoom.us/meeting/register/tZUqfuCqrjgsEtao43VyFSAHIfmCxtRBe-Mw
URL:https://thehappierlifeproject.org/event/all-recovery-meeting-8-2024-08-28/
LOCATION:CA
END:VEVENT
BEGIN:VEVENT
DTSTART;TZID=America/Los_Angeles:20240827T180000
DTEND;TZID=America/Los_Angeles:20240827T190000
DTSTAMP:20260425T002436
CREATED:20230216T170033Z
LAST-MODIFIED:20230216T170033Z
UID:14681-1724781600-1724785200@thehappierlifeproject.org
SUMMARY:Live Group Peer Support @ We Level Up
DESCRIPTION:  \n \n  \nJoin us in a safe and inclusive recovery space! \nThe Happier Life Project holds in Person Group Peer Support meetings every Tuesday at 6pm Pacific. All are welcome! 
URL:https://thehappierlifeproject.org/event/live-group-peer-support-we-level-up-2024-08-27/
LOCATION:We Level Up\, 31631 Auto Center Dr\,\, Lake Elsinore\, CA\, 92530\, United States
END:VEVENT
BEGIN:VEVENT
DTSTART;TZID=America/Los_Angeles:20240821T120000
DTEND;TZID=America/Los_Angeles:20240821T130000
DTSTAMP:20260425T002436
CREATED:20221130T212222Z
LAST-MODIFIED:20230403T123715Z
UID:13552-1724241600-1724245200@thehappierlifeproject.org
SUMMARY:All Recovery Meeting
DESCRIPTION:Everybody Needs Support\nNo matter who we are or where we come from\, we all face challenges. Research shows that the single most important factor which determines physical and emotional health\, as well as success\, is social support. We KNOW that everyone thrives in a community of support\, especially when times are tough. Isolation and lack of support make all feelings and experiences harder to bear. So\, having a strong social support system is not only helpful\, it’s essential to us and our families. \nMeeting ID: 817 9920 3682 \nhttps://us02web.zoom.us/meeting/register/tZUqfuCqrjgsEtao43VyFSAHIfmCxtRBe-Mw
URL:https://thehappierlifeproject.org/event/all-recovery-meeting-8-2024-08-21/
LOCATION:CA
END:VEVENT
BEGIN:VEVENT
DTSTART;TZID=America/Los_Angeles:20240820T180000
DTEND;TZID=America/Los_Angeles:20240820T190000
DTSTAMP:20260425T002436
CREATED:20230216T170033Z
LAST-MODIFIED:20230328T143741Z
UID:14018-1724176800-1724180400@thehappierlifeproject.org
SUMMARY:Live Group Peer Support @ We Level Up
DESCRIPTION:  \n \n  \nJoin us in a safe and inclusive recovery space! \nThe Happier Life Project holds in Person Group Peer Support meetings 1st\, 3rd and 5th Tuesday at 6pm Pacific. All are welcome! 
URL:https://thehappierlifeproject.org/event/live-group-peer-support-we-level-up-2024-08-20/
LOCATION:We Level Up\, 31631 Auto Center Dr\,\, Lake Elsinore\, CA\, 92530\, United States
END:VEVENT
BEGIN:VEVENT
DTSTART;TZID=UTC:20240816T153000
DTEND;TZID=UTC:20240816T163000
DTSTAMP:20260425T002436
CREATED:20240626T194842Z
LAST-MODIFIED:20240626T194842Z
UID:16278-1723822200-1723825800@thehappierlifeproject.org
SUMMARY:Depression and Bipolar Support Alliance
DESCRIPTION: 
URL:https://thehappierlifeproject.org/event/depression-and-bipolar-support-alliance-4/
LOCATION:CA
CATEGORIES:Support Group
END:VEVENT
BEGIN:VEVENT
DTSTART;TZID=America/Los_Angeles:20240814T120000
DTEND;TZID=America/Los_Angeles:20240814T130000
DTSTAMP:20260425T002436
CREATED:20221130T212222Z
LAST-MODIFIED:20230403T123715Z
UID:13551-1723636800-1723640400@thehappierlifeproject.org
SUMMARY:All Recovery Meeting
DESCRIPTION:Everybody Needs Support\nNo matter who we are or where we come from\, we all face challenges. Research shows that the single most important factor which determines physical and emotional health\, as well as success\, is social support. We KNOW that everyone thrives in a community of support\, especially when times are tough. Isolation and lack of support make all feelings and experiences harder to bear. So\, having a strong social support system is not only helpful\, it’s essential to us and our families. \nMeeting ID: 817 9920 3682 \nhttps://us02web.zoom.us/meeting/register/tZUqfuCqrjgsEtao43VyFSAHIfmCxtRBe-Mw
URL:https://thehappierlifeproject.org/event/all-recovery-meeting-8-2024-08-14/
LOCATION:CA
END:VEVENT
BEGIN:VEVENT
DTSTART;TZID=America/Los_Angeles:20240813T180000
DTEND;TZID=America/Los_Angeles:20240813T190000
DTSTAMP:20260425T002436
CREATED:20230216T170033Z
LAST-MODIFIED:20230216T170033Z
UID:14680-1723572000-1723575600@thehappierlifeproject.org
SUMMARY:Live Group Peer Support @ We Level Up
DESCRIPTION:  \n \n  \nJoin us in a safe and inclusive recovery space! \nThe Happier Life Project holds in Person Group Peer Support meetings every Tuesday at 6pm Pacific. All are welcome! 
URL:https://thehappierlifeproject.org/event/live-group-peer-support-we-level-up-2024-08-13/
LOCATION:We Level Up\, 31631 Auto Center Dr\,\, Lake Elsinore\, CA\, 92530\, United States
END:VEVENT
BEGIN:VEVENT
DTSTART;TZID=America/Los_Angeles:20240807T120000
DTEND;TZID=America/Los_Angeles:20240807T130000
DTSTAMP:20260425T002436
CREATED:20221130T212222Z
LAST-MODIFIED:20230403T123715Z
UID:13550-1723032000-1723035600@thehappierlifeproject.org
SUMMARY:All Recovery Meeting
DESCRIPTION:Everybody Needs Support\nNo matter who we are or where we come from\, we all face challenges. Research shows that the single most important factor which determines physical and emotional health\, as well as success\, is social support. We KNOW that everyone thrives in a community of support\, especially when times are tough. Isolation and lack of support make all feelings and experiences harder to bear. So\, having a strong social support system is not only helpful\, it’s essential to us and our families. \nMeeting ID: 817 9920 3682 \nhttps://us02web.zoom.us/meeting/register/tZUqfuCqrjgsEtao43VyFSAHIfmCxtRBe-Mw
URL:https://thehappierlifeproject.org/event/all-recovery-meeting-8-2024-08-07/
LOCATION:CA
END:VEVENT
BEGIN:VEVENT
DTSTART;TZID=America/Los_Angeles:20240806T180000
DTEND;TZID=America/Los_Angeles:20240806T190000
DTSTAMP:20260425T002436
CREATED:20230216T170033Z
LAST-MODIFIED:20230328T143741Z
UID:14017-1722967200-1722970800@thehappierlifeproject.org
SUMMARY:Live Group Peer Support @ We Level Up
DESCRIPTION:  \n \n  \nJoin us in a safe and inclusive recovery space! \nThe Happier Life Project holds in Person Group Peer Support meetings 1st\, 3rd and 5th Tuesday at 6pm Pacific. All are welcome! 
URL:https://thehappierlifeproject.org/event/live-group-peer-support-we-level-up-2024-08-06/
LOCATION:We Level Up\, 31631 Auto Center Dr\,\, Lake Elsinore\, CA\, 92530\, United States
END:VEVENT
BEGIN:VEVENT
DTSTART;TZID=America/Los_Angeles:20240805T180000
DTEND;TZID=America/Los_Angeles:20240805T190000
DTSTAMP:20260425T002436
CREATED:20230403T125147Z
LAST-MODIFIED:20230403T125147Z
UID:14640-1722880800-1722884400@thehappierlifeproject.org
SUMMARY:Virtual Group Peer Support
DESCRIPTION:Join us in a safe and inclusive recovery space! \nThe Happier Life Project holds Virtual Group Peer Support meetings every Monday at 6pm Pacific. All are welcome!  \nhttps://us02web.zoom.us/meeting/register/tZMlceuorTsoGtOFM9g9iZrQI4FOvKs4fMc6
URL:https://thehappierlifeproject.org/event/virtual-group-peer-support-2024-08-05/
LOCATION:CA
END:VEVENT
BEGIN:VEVENT
DTSTART;TZID=UTC:20240802T153000
DTEND;TZID=UTC:20240802T163000
DTSTAMP:20260425T002436
CREATED:20240626T194645Z
LAST-MODIFIED:20240626T194645Z
UID:16276-1722612600-1722616200@thehappierlifeproject.org
SUMMARY:Depression and Bipolar Support Alliance
DESCRIPTION: 
URL:https://thehappierlifeproject.org/event/depression-and-bipolar-support-alliance-3/
LOCATION:CA
CATEGORIES:Support Group
END:VEVENT
BEGIN:VEVENT
DTSTART;TZID=America/Los_Angeles:20240731T120000
DTEND;TZID=America/Los_Angeles:20240731T130000
DTSTAMP:20260425T002436
CREATED:20221130T212222Z
LAST-MODIFIED:20230403T123715Z
UID:13549-1722427200-1722430800@thehappierlifeproject.org
SUMMARY:All Recovery Meeting
DESCRIPTION:Everybody Needs Support\nNo matter who we are or where we come from\, we all face challenges. Research shows that the single most important factor which determines physical and emotional health\, as well as success\, is social support. We KNOW that everyone thrives in a community of support\, especially when times are tough. Isolation and lack of support make all feelings and experiences harder to bear. So\, having a strong social support system is not only helpful\, it’s essential to us and our families. \nMeeting ID: 817 9920 3682 \nhttps://us02web.zoom.us/meeting/register/tZUqfuCqrjgsEtao43VyFSAHIfmCxtRBe-Mw
URL:https://thehappierlifeproject.org/event/all-recovery-meeting-8-2024-07-31/
LOCATION:CA
END:VEVENT
BEGIN:VEVENT
DTSTART;TZID=America/Los_Angeles:20240730T180000
DTEND;TZID=America/Los_Angeles:20240730T190000
DTSTAMP:20260425T002436
CREATED:20230216T170033Z
LAST-MODIFIED:20230216T170033Z
UID:14157-1722362400-1722366000@thehappierlifeproject.org
SUMMARY:Live Group Peer Support @ We Level Up
DESCRIPTION:  \n \n  \nJoin us in a safe and inclusive recovery space! \nThe Happier Life Project holds in Person Group Peer Support meetings 1st\, 3rd and 5th Tuesday at 6pm Pacific. All are welcome! 
URL:https://thehappierlifeproject.org/event/live-group-peer-support-we-level-up-2024-07-30/
LOCATION:We Level Up\, 31631 Auto Center Dr\,\, Lake Elsinore\, CA\, 92530\, United States
END:VEVENT
BEGIN:VEVENT
DTSTART;TZID=America/Los_Angeles:20240729T180000
DTEND;TZID=America/Los_Angeles:20240729T190000
DTSTAMP:20260425T002436
CREATED:20230403T125147Z
LAST-MODIFIED:20230403T125147Z
UID:14639-1722276000-1722279600@thehappierlifeproject.org
SUMMARY:Virtual Group Peer Support
DESCRIPTION:Join us in a safe and inclusive recovery space! \nThe Happier Life Project holds Virtual Group Peer Support meetings every Monday at 6pm Pacific. All are welcome!  \nhttps://us02web.zoom.us/meeting/register/tZMlceuorTsoGtOFM9g9iZrQI4FOvKs4fMc6
URL:https://thehappierlifeproject.org/event/virtual-group-peer-support-2024-07-29/
LOCATION:CA
END:VEVENT
BEGIN:VEVENT
DTSTART;TZID=UTC:20240726T120000
DTEND;TZID=UTC:20240726T130000
DTSTAMP:20260425T002436
CREATED:20240626T192341Z
LAST-MODIFIED:20240626T192341Z
UID:16226-1721995200-1721998800@thehappierlifeproject.org
SUMMARY:Honoring the Circle: Red Road to Wellbriety
DESCRIPTION:
URL:https://thehappierlifeproject.org/event/honoring-the-circle-red-road-to-wellbriety-12/
LOCATION:The Happier Life Project\, 506 W. Graham Ave. Suite 105\, Lake Elsinore\, CA\, 92530\, United States
CATEGORIES:Support Group
END:VEVENT
BEGIN:VEVENT
DTSTART;TZID=America/Los_Angeles:20240724T120000
DTEND;TZID=America/Los_Angeles:20240724T130000
DTSTAMP:20260425T002436
CREATED:20221130T212222Z
LAST-MODIFIED:20230403T123714Z
UID:13548-1721822400-1721826000@thehappierlifeproject.org
SUMMARY:All Recovery Meeting
DESCRIPTION:Everybody Needs Support\nNo matter who we are or where we come from\, we all face challenges. Research shows that the single most important factor which determines physical and emotional health\, as well as success\, is social support. We KNOW that everyone thrives in a community of support\, especially when times are tough. Isolation and lack of support make all feelings and experiences harder to bear. So\, having a strong social support system is not only helpful\, it’s essential to us and our families. \nMeeting ID: 817 9920 3682 \nhttps://us02web.zoom.us/meeting/register/tZUqfuCqrjgsEtao43VyFSAHIfmCxtRBe-Mw
URL:https://thehappierlifeproject.org/event/all-recovery-meeting-8-2024-07-24/
LOCATION:CA
END:VEVENT
BEGIN:VEVENT
DTSTART;TZID=America/Los_Angeles:20240723T180000
DTEND;TZID=America/Los_Angeles:20240723T190000
DTSTAMP:20260425T002436
CREATED:20230216T170033Z
LAST-MODIFIED:20230216T170033Z
UID:14679-1721757600-1721761200@thehappierlifeproject.org
SUMMARY:Live Group Peer Support @ We Level Up
DESCRIPTION:  \n \n  \nJoin us in a safe and inclusive recovery space! \nThe Happier Life Project holds in Person Group Peer Support meetings every Tuesday at 6pm Pacific. All are welcome! 
URL:https://thehappierlifeproject.org/event/live-group-peer-support-we-level-up-2024-07-23/
LOCATION:We Level Up\, 31631 Auto Center Dr\,\, Lake Elsinore\, CA\, 92530\, United States
END:VEVENT
BEGIN:VEVENT
DTSTART;TZID=America/Los_Angeles:20240722T180000
DTEND;TZID=America/Los_Angeles:20240722T190000
DTSTAMP:20260425T002436
CREATED:20230403T125147Z
LAST-MODIFIED:20230403T125147Z
UID:14638-1721671200-1721674800@thehappierlifeproject.org
SUMMARY:Virtual Group Peer Support
DESCRIPTION:Join us in a safe and inclusive recovery space! \nThe Happier Life Project holds Virtual Group Peer Support meetings every Monday at 6pm Pacific. All are welcome!  \nhttps://us02web.zoom.us/meeting/register/tZMlceuorTsoGtOFM9g9iZrQI4FOvKs4fMc6
URL:https://thehappierlifeproject.org/event/virtual-group-peer-support-2024-07-22/
LOCATION:CA
END:VEVENT
BEGIN:VEVENT
DTSTART;TZID=UTC:20240719T153000
DTEND;TZID=UTC:20240719T163000
DTSTAMP:20260425T002436
CREATED:20240626T194359Z
LAST-MODIFIED:20240626T194540Z
UID:16274-1721403000-1721406600@thehappierlifeproject.org
SUMMARY:Depression and Bipolar Support Alliance
DESCRIPTION: 
URL:https://thehappierlifeproject.org/event/depression-and-bipolar-support-alliance-2/
LOCATION:CA
CATEGORIES:Support Group
END:VEVENT
BEGIN:VEVENT
DTSTART;TZID=UTC:20240719T120000
DTEND;TZID=UTC:20240719T130000
DTSTAMP:20260425T002436
CREATED:20240626T192139Z
LAST-MODIFIED:20240626T192139Z
UID:16225-1721390400-1721394000@thehappierlifeproject.org
SUMMARY:Honoring the Circle: Red Road to Wellbriety
DESCRIPTION:
URL:https://thehappierlifeproject.org/event/honoring-the-circle-red-road-to-wellbriety-11/
LOCATION:The Happier Life Project\, 506 W. Graham Ave. Suite 105\, Lake Elsinore\, CA\, 92530\, United States
CATEGORIES:Support Group
END:VEVENT
BEGIN:VEVENT
DTSTART;TZID=America/Los_Angeles:20240717T120000
DTEND;TZID=America/Los_Angeles:20240717T130000
DTSTAMP:20260425T002436
CREATED:20221130T212222Z
LAST-MODIFIED:20230403T123714Z
UID:13547-1721217600-1721221200@thehappierlifeproject.org
SUMMARY:All Recovery Meeting
DESCRIPTION:Everybody Needs Support\nNo matter who we are or where we come from\, we all face challenges. Research shows that the single most important factor which determines physical and emotional health\, as well as success\, is social support. We KNOW that everyone thrives in a community of support\, especially when times are tough. Isolation and lack of support make all feelings and experiences harder to bear. So\, having a strong social support system is not only helpful\, it’s essential to us and our families. \nMeeting ID: 817 9920 3682 \nhttps://us02web.zoom.us/meeting/register/tZUqfuCqrjgsEtao43VyFSAHIfmCxtRBe-Mw
URL:https://thehappierlifeproject.org/event/all-recovery-meeting-8-2024-07-17/
LOCATION:CA
END:VEVENT
BEGIN:VEVENT
DTSTART;TZID=America/Los_Angeles:20240716T180000
DTEND;TZID=America/Los_Angeles:20240716T190000
DTSTAMP:20260425T002436
CREATED:20230216T170033Z
LAST-MODIFIED:20230328T143740Z
UID:14015-1721152800-1721156400@thehappierlifeproject.org
SUMMARY:Live Group Peer Support @ We Level Up
DESCRIPTION:  \n \n  \nJoin us in a safe and inclusive recovery space! \nThe Happier Life Project holds in Person Group Peer Support meetings 1st\, 3rd and 5th Tuesday at 6pm Pacific. All are welcome! 
URL:https://thehappierlifeproject.org/event/live-group-peer-support-we-level-up-2024-07-16/
LOCATION:We Level Up\, 31631 Auto Center Dr\,\, Lake Elsinore\, CA\, 92530\, United States
END:VEVENT
BEGIN:VEVENT
DTSTART;TZID=America/Los_Angeles:20240715T180000
DTEND;TZID=America/Los_Angeles:20240715T190000
DTSTAMP:20260425T002436
CREATED:20230403T125147Z
LAST-MODIFIED:20230403T125147Z
UID:14637-1721066400-1721070000@thehappierlifeproject.org
SUMMARY:Virtual Group Peer Support
DESCRIPTION:Join us in a safe and inclusive recovery space! \nThe Happier Life Project holds Virtual Group Peer Support meetings every Monday at 6pm Pacific. All are welcome!  \nhttps://us02web.zoom.us/meeting/register/tZMlceuorTsoGtOFM9g9iZrQI4FOvKs4fMc6
URL:https://thehappierlifeproject.org/event/virtual-group-peer-support-2024-07-15/
LOCATION:CA
END:VEVENT
END:VCALENDAR